BEGIN:VCALENDAR
VERSION:2.0
PRODID:-//ChamberMaster//Event Calendar 2.0//EN
METHOD:PUBLISH
X-PUBLISHED-TTL:P3D
REFRESH-INTERVAL:P3D
CALSCALE:GREGORIAN
BEGIN:VEVENT
DTSTART;VALUE=DATE:20201212
DTEND;VALUE=DATE:20201213
TRANSP:TRANSPARENT
X-MICROSOFT-CDO-ALLDAYEVENT:TRUE
SUMMARY:12 Days of Christmas at Bee Alive Yoga
DESCRIPTION:Bee Alive Yoga Studio Presents: 12 Days of Christmas. \n\n \n\nBeginning 12/1/2020 until 12/12/2020 Bee Alive Yoga Studio will be offering a 24 hour special sale each day. We highly recommend marking your calendars for these sales cannot be accessed outside of their sale date . \n\n \n\nALL ITEMS MAY BE GIFTED. If you wish to give a gift please call or email us at beealiveyoga@gmail.com on the EXACT date of the special you would like to gift. If we miss your call that day we will return the call within 1-3 days. \n\n \n\nVisit: https://www.beealiveyoga.com/12daysofxmas\n\n\n\n12th day of Christmas:  Founders Membership is Back! \n\n-We are bringing back our Founders membership to purchase for today only! This is our $79 monthly membership for one year that we introduced when we first opened. This membership allows access to all Bee Alive classes. This is a one year commitment with the ability to pause membership twice in the year. \n\n**If you are currently a Founding member and you would like to continue your Founders membership price for another year\, please email beealiveyoga@gmail.com by today (12/12) and we continue your Founders membership price for another year after current membership expiration.  \n\n**MEMBERSHIP BEGINS 1/1/2021**\n\n \n\n**Once again\, specials cannot be purchased outside of their sale date.** \n\n**ALL ITEMS ARE NON-REFUNDABLE**\n\n \n\n \n\nPlease contact us at beealiveyoga@gmail.com or call 608-745-9333 for any questions.
X-ALT-DESC;FMTTYPE=text/html:<span style="font-size:14px\;"><span style="font-family:arial\;"><strong><span style="color:#660000\;">Bee Alive Yoga Studio Presents:</span> <span style="color:#274E13\;">12 Days of Christmas.&nbsp\;</span></strong><br />\n&nbsp\;<br />\n<strong>Beginning 12/1/2020 until 12/12/2020 Bee Alive Yoga Studio will be offering a 24 hour special sale each day. We highly recommend marking your calendars for these sales cannot be accessed outside of their sale date&nbsp\;.&nbsp\;</strong><br />\n&nbsp\;<br />\n<strong>ALL ITEMS MAY BE GIFTED. If you wish to give a gift please call or email us at </strong><a href="mailto:beealiveyoga@gmail.com" target="_blank"><strong><span style="color:#DCA10D\;">beealiveyoga@gmail.com</span></strong></a><strong> on the EXACT date of the special you would like to gift. If we miss your call that day we will return the call within 1-3 days.&nbsp\;</strong><br />\n&nbsp\;<br />\n<strong>Visit:&nbsp\;</strong></span><strong><a href="https://www.beealiveyoga.com/12daysofxmas" target="_blank">https://www.beealiveyoga.com/12daysofxmas</a></strong></span><br />\n<br />\n<span style="font-size:14px\;"><span style="font-family:arial\;"><strong><u><span style="color:#274E13\;">12th day of Christmas:</span></u></strong>&nbsp\;<span style="color:#274E13\;">&nbsp\;<strong>Founders Membership is Back!&nbsp\;</strong></span><br />\n<em>-We are bringing back our Founders membership to purchase for today only! This is our $79 monthly membership for one year that we introduced when we first opened. This membership allows access to all Bee Alive classes. This is a one year commitment with the ability to pause membership twice in the year.&nbsp\;</em><br />\n<em>**If you are currently a Founding member and you would like to continue your Founders membership price for another year\, please email <a href="mailto:beealiveyoga@gmail.com" target="_blank">beealiveyoga@gmail.com</a> by today (12/12) and we continue your Founders membership price for another year after current membership expiration.&nbsp\;&nbsp\;</em><br />\n<em>**MEMBERSHIP BEGINS 1/1/2021**</em><br />\n&nbsp\;<br />\n<strong>**Once again\, specials cannot be purchased&nbsp\;outside of their sale date.**&nbsp\;</strong><br />\n<strong><em>**ALL ITEMS ARE NON-REFUNDABLE**</em></strong><br />\n&nbsp\;<br />\n&nbsp\;<br />\nPlease contact us at <a href="mailto:beealiveyoga@gmail.com" target="_blank">beealiveyoga@gmail.com</a> or call 608-745-9333 for any questions.&nbsp\;</span></span><br />\n&nbsp\;
LOCATION:
UID:e.374.27989
SEQUENCE:3
DTSTAMP:20260422T103136Z
URL:https://business.portagewi.com/events/details/12-days-of-christmas-at-bee-alive-yoga-12-12-2020-27989
END:VEVENT

END:VCALENDAR
