BEGIN:VCALENDAR
VERSION:2.0
PRODID:-//ChamberMaster//Event Calendar 2.0//EN
METHOD:PUBLISH
X-PUBLISHED-TTL:P3D
REFRESH-INTERVAL:P3D
CALSCALE:GREGORIAN
BEGIN:VEVENT
DTSTART:20181010T203000Z
DTEND:20181010T230000Z
X-MICROSOFT-CDO-ALLDAYEVENT:FALSE
SUMMARY:2nd Annual Fall Festival At Fairway Mortgage
DESCRIPTION:2nd Annual Fall Festival at Fairway Mortgage.  Customer and Community Appreciation with free pumpkins while they last.  Bring the kids for treats\, carnival games and fun!
X-ALT-DESC;FMTTYPE=text/html:<span style="font-size: 16pt\;"><span style="font-family: calibri\;">2nd Annual Fall Festival at Fairway Mortgage.&nbsp\; Customer and Community Appreciation with free pumpkins while they last.&nbsp\; Bring the kids for treats\, carnival games and fun!</span></span><br />\n&nbsp\;
LOCATION:Fairway Mortgage 2425 New Pinery Road Portage\, WI 53901
UID:e.374.24337
SEQUENCE:3
DTSTAMP:20260420T085002Z
URL:https://business.portagewi.com/events/details/2nd-annual-fall-festival-at-fairway-mortgage-24337
END:VEVENT

END:VCALENDAR
