BEGIN:VCALENDAR
VERSION:2.0
PRODID:-//ChamberMaster//Event Calendar 2.0//EN
METHOD:PUBLISH
X-PUBLISHED-TTL:P3D
REFRESH-INTERVAL:P3D
CALSCALE:GREGORIAN
BEGIN:VEVENT
DTSTART:20130712T230000Z
DTEND:20130713T140000Z
X-MICROSOFT-CDO-ALLDAYEVENT:FALSE
SUMMARY:American Cancer Society Relay For Life of Portage
DESCRIPTION:Relay For Life is a community event to celebrate the lives of those who have battled cancer\, remember loved ones lost\, and empower individuals to fight back against a disease that takes too much from too many. The Community is welcome to enjoy music\, food\, fun\, entertainment and activities.\n\n\n\nOpening Ceremony-6 p.m.\n\nLuminaria Ceremony (candlelight vigil)-9 p.m.\n\nClosing Ceremony-9 a.m.\n\n\n\nThe Relay For Life of Portage supports the American Cancer Society by helping people get well\, stay well\, finding cures and fighting back against cancer.
X-ALT-DESC;FMTTYPE=text/html:Relay For Life is a community event to celebrate the lives of those who have battled cancer\, remember loved ones lost\, and empower individuals to fight back against a disease that takes too much from too many. The Community is welcome to enjoy music\, food\, fun\, entertainment and activities.<br />\n<br />\nOpening Ceremony-6 p.m.<br />\nLuminaria Ceremony (candlelight vigil)-9 p.m.<br />\nClosing Ceremony-9 a.m.<br />\n<br />\nThe Relay For Life of Portage supports the American Cancer Society by helping people get well\, stay well\, finding cures and fighting back against cancer.<br />\n
LOCATION:Portage High School Track
UID:e.374.8132
SEQUENCE:3
DTSTAMP:20260423T073051Z
URL:https://business.portagewi.com/events/details/american-cancer-society-relay-for-life-of-portage-07-12-2013-8132
END:VEVENT

END:VCALENDAR
