BEGIN:VCALENDAR
VERSION:2.0
PRODID:-//ChamberMaster//Event Calendar 2.0//EN
METHOD:PUBLISH
X-PUBLISHED-TTL:P3D
REFRESH-INTERVAL:P3D
CALSCALE:GREGORIAN
BEGIN:VEVENT
DTSTART;VALUE=DATE:20200613
DTEND;VALUE=DATE:20200614
TRANSP:TRANSPARENT
X-MICROSOFT-CDO-ALLDAYEVENT:TRUE
SUMMARY:Virtual - Art that Blooms at PCA
DESCRIPTION:This event will be held virtually due to the COVID-19 pandemic.  \n\n\n\nArt that Blooms is a wonderful event\, free and open to the public\, featuring original artwork by area artists\, along with fresh floral arrangements and poetry inspired by each individual work of art. All this comes together for a multi-sensory event the first full weekend in June!
X-ALT-DESC;FMTTYPE=text/html:<span style="font-size: 14px\;"><span style="font-family: arial\;"><strong>This event will be held virtually due to the COVID-19 pandemic.&nbsp\; </strong><br />\n<br />\nArt that Blooms is a wonderful event\, free and open to the public\, featuring original artwork by area artists\, along with fresh floral arrangements and poetry inspired by each individual work of art.&nbsp\;All this comes together for a multi-sensory event the first full weekend in June!</span></span><br />\n<br />\n&nbsp\;
LOCATION:The Drury Gallery at Portage Center for the Arts 301 E. Cook Street Portage\, WI 53901
UID:e.374.26683
SEQUENCE:3
DTSTAMP:20260420T015102Z
URL:https://business.portagewi.com/events/details/art-that-blooms-at-pca-06-13-2020-26683
END:VEVENT

END:VCALENDAR
