BEGIN:VCALENDAR
VERSION:2.0
PRODID:-//ChamberMaster//Event Calendar 2.0//EN
METHOD:PUBLISH
X-PUBLISHED-TTL:P3D
REFRESH-INTERVAL:P3D
CALSCALE:GREGORIAN
BEGIN:VEVENT
DTSTART;VALUE=DATE:20201127
DTEND;VALUE=DATE:20201128
TRANSP:TRANSPARENT
X-MICROSOFT-CDO-ALLDAYEVENT:TRUE
SUMMARY:Black Friday Sales
DESCRIPTION:BLACK FRIDAY SALES IN PORTAGE\n\n\n\nBee Alive Yoga:  \n\n10 Class Pass for $99. One Day Only (11/27/2020)(expires 6 months after first attended class)\n\nPurchases can be made online on our website or by phone 608-745-9333. If you wish to purchase over the phone and we miss your call\, please leave us a VM with your name and number.  As long as you call on Black Friday (11/27) we will allow access to this offer.\n\nThis offer may be gifted as well. If purchasing online: purchase under your name\, call or email Bee Alive with your name\, phone number\, and the person you would like to gift this too (please spell name out on phone).  \n\n\n\nWisconsin Network Solutions:\n\n15% off computer labor cost good through Dec. 31\, 2020.\n\n1 Main St.\, Portage    608-745-6789\n\n\n\nForever Yours Jewelry:\n\nAnniversary Sale and Shop Small Weekend - 25% Off.  Plus all purchases of $250 Gets a Gift with Purchase.  You choose a mystery wrapped present from under the tree to take home as an extra gift!  10am - 2pm   (608) 745-3330\n\n\n\nEdgewater Home and Garden:\n\nHoliday Open House\n\nNov. 27th 8:30 to 6pm\n\nNov 28th 8:30 to 5 pm\n\nNov 29th 9 am to 3 pm\n\nPlease join us for a great kick-start to the Holiday season!  Enjoy freshly baked cookies\, coffee\, cocoa\, samples of various products.  Draw an ornament for your discount on your purchases up to 40% off  (does not include fresh evergreen items or custom orders) Register for drawings and prizes.\n\n\n\nPrairie Flower Beads:\n\n35% off all in store jewelry.  Some exclusions apply.  (608) 742-5900\n\n\n\nMain Street Consignment\, LLC:\n\nWe are your walk-in closet. Consign\, shop\, and save! Take 50% off all kid's Christmas apparel until December 31\, 2020. Check out our dollar rack. Gift Certificates available. Face masks required.  13 Main St.\, Portage   608-566-1644\n\n\n\nSpark & Sparkle:\n\nOffering 20% off store wide for Black Friday.  141 East Cook Street  (608) 566-1590\n\n\n\nFancy Pants & Smart Woman:\n\nReady-Set-Shop!  20%off storewide for Black Friday.  With the holidays upon us we are happy to provide a private shopping experience.  We would be happy to accommodate.  If you would like a stay at home experience we are happy to FaceTime with you and show you many items.  We can ship or do curbside pick-up.  Remember we also gift wrap! (608) 742-5711\n\n\n\nGiggles for Kids (inside Mercantile\, 117 W. Cook St.) 608-745-5768\n\nTake 10% off all Springbok puzzles. Offer good Black Friday only.
X-ALT-DESC;FMTTYPE=text/html:<p><em><u><strong><span style="font-size:18px\;">BLACK FRIDAY SALES IN PORTAGE</span></strong></u></em><br />\n<br />\n<span style="font-size:14px\;"><span style="font-family:arial\;"><strong><u>Bee Alive Yoga:</u>&nbsp\; </strong><br />\n10 Class Pass for $99. <strong><em>One Day Only (11/27/2020)</em></strong>(expires 6 months after first attended class)<br />\nPurchases can be made <a href="http://www.beealiveyoga.com/rates" target="_blank"><span style="color:#DCA10D\;">online</span></a> on our website or by phone 608-745-9333. If you wish to purchase over the phone and we miss your call\, please leave us a VM with your name and number.&nbsp\; As long as you call on Black Friday (11/27) we will allow access to this offer.<br />\n<strong>This offer may be gifted as well. </strong>If purchasing online: purchase under your name\, call or email Bee Alive with your name\, phone number\, and the person you would like to gift this too (please spell name out on phone).&nbsp\;&nbsp\;<br />\n<br />\n<strong><u>Wisconsin Network Solutions</u>:</strong><br />\n15% off computer labor cost good through Dec. 31\, 2020.<br />\n1 Main St.\, Portage &nbsp\;&nbsp\; 608-745-6789<br />\n<br />\n<u><strong>Forever Yours Jewelry:</strong></u><br />\n<span style="color:#444444\;">Anniversary Sale and Shop Small Weekend - 25% Off.&nbsp\; Plus all purchases of $250 Gets a Gift with Purchase.&nbsp\; You choose a mystery wrapped present from under the tree to take home as an extra gift!&nbsp\; 10am - 2pm&nbsp\;&nbsp\; </span>(608) 745-3330<br />\n<br />\n<u><strong>Edgewater Home and Garden:</strong></u><br />\nHoliday Open House<br />\nNov. 27th 8:30 to 6pm<br />\nNov 28th 8:30 to 5 pm<br />\nNov 29th 9 am to 3 pm<br />\nPlease join us for a great kick-start to the Holiday season!&nbsp\; Enjoy freshly baked cookies\, coffee\, cocoa\, samples of various products.&nbsp\; Draw an ornament for your discount on your purchases up to 40% off&nbsp\; (does not include fresh evergreen items or custom orders) Register for drawings and prizes.<br />\n<br />\n<u><strong>Prairie Flower Beads:</strong></u><br />\n35% off all in store jewelry.&nbsp\; Some exclusions apply.&nbsp\; (608) 742-5900<br />\n<br />\n<u><strong>Main Street Consignment\, LLC:</strong></u><br />\nWe are your walk-in closet. Consign\, shop\, and save! Take 50% off all kid&#39\;s Christmas apparel until December 31\, 2020. Check out our dollar rack. Gift Certificates available. Face masks required.&nbsp\; 13 Main St.\, Portage&nbsp\; &nbsp\;608-566-1644<br />\n<br />\n<u><strong>Spark &amp\; Sparkle:</strong></u><br />\nOffering 20% off store wide for Black Friday.&nbsp\; 141 East Cook Street&nbsp\; (608) 566-1590<br />\n<br />\n<u><strong>Fancy Pants &amp\; Smart Woman:</strong></u></span></span><br />\n<span style="font-family:arial\,sans-serif\;"><span style="font-size:10.5pt\;">Ready-Set-Shop!&nbsp\; 20%off storewide for Black Friday.&nbsp\; With the holidays upon us we are happy to provide a private shopping experience.&nbsp\; We would be happy to accommodate.&nbsp\; If you would like a stay at home experience we are happy to FaceTime with you and show you many items.&nbsp\; We can ship or do curbside pick-up.&nbsp\; Remember we also gift wrap! </span></span><span style="font-size:14px\;">(608) 742-5711</span><br />\n<br />\n<span style="font-size:12px\;"><span style="font-size:14px\;"><strong>Giggles for Kids</strong> (inside Mercantile\, 117 W. Cook St.) 608-745-5768<br />\nTake 10% off all Springbok puzzles. Offer good Black Friday only.</span><br />\n<br />\n&nbsp\;</span><br />\n<br />\n<br />\n<br />\n<br />\n<br />\n<br />\n<span style="font-family:arial\;"><span style="font-size:14px\;">&nbsp\;</span></span></p>\n
LOCATION:
UID:e.374.27957
SEQUENCE:3
DTSTAMP:20260422T083838Z
URL:https://business.portagewi.com/events/details/black-friday-sales-27957
END:VEVENT

END:VCALENDAR
