BEGIN:VCALENDAR
VERSION:2.0
PRODID:-//ChamberMaster//Event Calendar 2.0//EN
METHOD:PUBLISH
X-PUBLISHED-TTL:P3D
REFRESH-INTERVAL:P3D
CALSCALE:GREGORIAN
BEGIN:VEVENT
DTSTART;VALUE=DATE:20130510
DTEND;VALUE=DATE:20130723
TRANSP:TRANSPARENT
X-MICROSOFT-CDO-ALLDAYEVENT:TRUE
SUMMARY:Books needed for Portage Library Book Sale
DESCRIPTION:The Friends of the Portage Library is currently seeking books\, audio books\, cds\, DVDs\, graphic novels and videos  for their annual book sale to be held in July 25\, 26 and 27\, 2013.  Unfortunately we cannot accept Reader's Digest or condensed books\, encyclopedias\, textbooks or magazines.  Donations can be dropped off at the Portage Library\, 253 W Edgewater St in Portage or call 742-7783 or 742-6493 to arrange for pickup.  Proceeds from the sale are used to support youth and adult programming and services.
X-ALT-DESC;FMTTYPE=text/html:The Friends of the Portage Library is currently seeking books\, audio books\, cds\, DVDs\, graphic novels and videos &nbsp\;for their annual book sale to be held in July 25\, 26 and 27\, 2013. &nbsp\;Unfortunately we cannot accept Reader&#39\;s Digest or condensed books\, encyclopedias\, textbooks or magazines. &nbsp\;Donations can be dropped off at the Portage Library\, 253 W Edgewater St in Portage or call 742-7783 or 742-6493 to arrange for pickup. &nbsp\;Proceeds from the sale are used to support youth and adult programming and services.
LOCATION:Portage Library 253 W Edgewater St Portage
UID:e.374.8525
SEQUENCE:3
DTSTAMP:20260423T085029Z
URL:https://business.portagewi.com/events/details/books-needed-for-portage-library-book-sale-05-10-2013-8525
END:VEVENT

END:VCALENDAR
