BEGIN:VCALENDAR
VERSION:2.0
PRODID:-//ChamberMaster//Event Calendar 2.0//EN
METHOD:PUBLISH
X-PUBLISHED-TTL:P3D
REFRESH-INTERVAL:P3D
CALSCALE:GREGORIAN
BEGIN:VEVENT
DTSTART:20201010T170000Z
DTEND:20201010T200000Z
X-MICROSOFT-CDO-ALLDAYEVENT:FALSE
SUMMARY:Canceled - Chili'n at the Cabin at FWSQ
DESCRIPTION:This event has been canceled due to COVID-19.\n\n\n\nNoon - Chili Cook Off at Fort Winnebago Surgeons Quarters\n\nTaste Testers needed - $5 a bowl or small tasting cups available as well. \n\nMoney raised will be used for restoration projects at Fort Winnebago Surgeons Quarters.
X-ALT-DESC;FMTTYPE=text/html:<span style="font-size: 16px\;"><span style="font-family: arial\;"><strong>This event has been canceled due to COVID-19.</strong><br />\n<br />\nNoon - <span style="font-size: 16px\;">Chili Cook Off at Fort Winnebago Surgeons Quarters</span><br />\nTaste Testers needed -&nbsp\;$5 a bowl or small tasting cups available as well. </span></span><br />\n<span style="font-size: 16px\;">Money raised will be used for restoration projects at Fort Winnebago Surgeons Quarters.</span>
LOCATION:Fort Winnebago Surgeons Quarters 1824 Hwy 33 Portage
UID:e.374.26632
SEQUENCE:3
DTSTAMP:20260422T070912Z
URL:https://business.portagewi.com/events/details/canceled-chili-n-at-the-cabin-at-fwsq-26632
END:VEVENT

END:VCALENDAR
