BEGIN:VCALENDAR
VERSION:2.0
PRODID:-//ChamberMaster//Event Calendar 2.0//EN
METHOD:PUBLISH
X-PUBLISHED-TTL:P3D
REFRESH-INTERVAL:P3D
CALSCALE:GREGORIAN
BEGIN:VEVENT
DTSTART:20201118T230000Z
DTEND:20201119T003000Z
X-MICROSOFT-CDO-ALLDAYEVENT:FALSE
SUMMARY:Canceled - Endeavor Sharing Supper
DESCRIPTION:This event has been canceled for November.\n\nEach supper includes free blood pressure checks\, Kids Corner with educational games and activities plus informational booths for guests to learn about services that are available to them in our community.\n\n\n\nMeals are free and everyone is invited.\n\n\n\nThe Endeavor Sharing Suppers are held on the last Wednesday of each month at the Endeavor Elementary School\, 414 Church Street Endeavor\, WI from 5:00-6:30pm.
X-ALT-DESC;FMTTYPE=text/html:<span style="font-size: 14px\;"><span style="font-family: arial\;"><strong>This event has been canceled for November.</strong><br />\nEach supper includes free blood pressure checks\, Kids Corner with educational games and activities plus informational booths for guests to learn about services that are available to them in our community.<br />\n<br />\nMeals are free and everyone is invited.<br />\n<br />\nThe Endeavor Sharing Suppers are held on the last Wednesday of each month at the Endeavor Elementary School\, 414 Church Street Endeavor\, WI from 5:00-6:30pm.</span></span><br />\n<br />\n&nbsp\;
LOCATION:Endeavor Elementary School 414 Church Street Endeavor\, WI
UID:e.374.26808
SEQUENCE:3
DTSTAMP:20260422T084247Z
URL:https://business.portagewi.com/events/details/canceled-endeavor-sharing-supper-11-18-2020-26808
END:VEVENT

END:VCALENDAR
