BEGIN:VCALENDAR
VERSION:2.0
PRODID:-//ChamberMaster//Event Calendar 2.0//EN
METHOD:PUBLISH
X-PUBLISHED-TTL:P3D
REFRESH-INTERVAL:P3D
CALSCALE:GREGORIAN
BEGIN:VEVENT
DTSTART;VALUE=DATE:20201024
DTEND;VALUE=DATE:20201025
TRANSP:TRANSPARENT
X-MICROSOFT-CDO-ALLDAYEVENT:TRUE
SUMMARY:Canceled - Halloween at the Portage Theatre
DESCRIPTION:Canceled - due to the COVID-19 pandemic this event has been canceled for 2020.\n\n\n\nPortage Theatres is planning a great Halloween themed event for the kids. \n\nAll you have to do is bring a non-perishable food item for the Food Pantry to participate. There will be a costume contest\, goodie bags\, movie and a sidewalk parade leaving from St. Mary parking lot (next to the Theatre along Conant St.). \n\n\n\nFor more details call 608-742-6678 or visit www.portagetheatres.com
X-ALT-DESC;FMTTYPE=text/html:<p><span style="font-size: 12px\;"><span style="font-family:arial\;"><span style="font-size:14px\;"><strong>Canceled - due to the COVID-19 pandemic this event has been canceled for 2020.</strong><br />\n<br />\nPortage Theatres is planning a great Halloween themed event for the kids.&nbsp\;<br />\nAll you have to do is bring a non-perishable food item for the Food Pantry to participate.&nbsp\;There will be a costume contest\, goodie bags\,&nbsp\;movie and a sidewalk parade leaving from St. Mary parking lot (next to the Theatre along Conant St.).&nbsp\;<br />\n<br />\nFor more details&nbsp\;call 608-742-6678 or visit <a href="http://www.portagetheatres.com">www.portagetheatres.com</a></span><br />\n<br />\n<br />\n<br />\n&nbsp\;</span></span></p>\n
LOCATION:322 West Wisconsin Street in Downtown Portage
UID:e.374.26828
SEQUENCE:3
DTSTAMP:20260422T070658Z
URL:https://business.portagewi.com/events/details/canceled-halloween-at-the-portage-theatre-26828
END:VEVENT

END:VCALENDAR
