BEGIN:VCALENDAR
VERSION:2.0
PRODID:-//ChamberMaster//Event Calendar 2.0//EN
METHOD:PUBLISH
X-PUBLISHED-TTL:P3D
REFRESH-INTERVAL:P3D
CALSCALE:GREGORIAN
BEGIN:VEVENT
DTSTART:20201212T220000Z
DTEND:20201213T000000Z
X-MICROSOFT-CDO-ALLDAYEVENT:FALSE
SUMMARY:Canceled - Historic Living Windows
DESCRIPTION:Canceled - Due to the COVID-19 pandemic this event has been canceled for 2020.\n\n\n\nEnjoy this historical celebration of Portage by strolling the streets and viewing numerous vignettes of times past. There will be hot beverages and treats on the streets to keep you warm and toasty!
X-ALT-DESC;FMTTYPE=text/html:<div><span style="font-size: 16px\;"><strong>Canceled - Due to the COVID-19 pandemic this event has been canceled for 2020.</strong><br />\n<br />\n<span style="color: black\;">Enjoy this historical celebration of Portage by strolling the streets and viewing numerous vignettes of times past. There will be hot beverages and treats on the streets to keep you warm and toasty!</span></span><br />\n<br />\n<br />\n<br />\n&nbsp\;</div>\n
LOCATION:Downtown Portage
UID:e.374.26837
SEQUENCE:3
DTSTAMP:20260422T084011Z
URL:https://business.portagewi.com/events/details/canceled-historic-living-windows-26837
END:VEVENT

END:VCALENDAR
