BEGIN:VCALENDAR
VERSION:2.0
PRODID:-//ChamberMaster//Event Calendar 2.0//EN
METHOD:PUBLISH
X-PUBLISHED-TTL:P3D
REFRESH-INTERVAL:P3D
CALSCALE:GREGORIAN
BEGIN:VEVENT
DTSTART:20201128T000000Z
DTEND:20201128T020000Z
X-MICROSOFT-CDO-ALLDAYEVENT:FALSE
SUMMARY:Canceled - Holiday Lighted Parade & Tree Lighting
DESCRIPTION:Canceled - Due to the COVID-19 pandemic this event has been canceled for 2020.\n\n\n\nThe Business Improvement District (BID) is excited to be hosting the Downtown Holiday Parade.  The parade will wind its way downtown\, and end up with Santa lighting the gigantic holiday tree in Commerce Plaza. There will be hot beverages and treats on the streets to keep you warm.\n\n\n\nTo register:  https://neiraeventgroup.com/portageholidayparade\n\nContact Fiorella at  hello@neiraeventgroup.com  or 608-432-4624\n\n\n\nThe parade route will start at 6pm near Pauquette Park\, proceed down Conant Street turn right onto Wisconsin\, left onto Cook Street and follow to Adams Street\, where it will end.
X-ALT-DESC;FMTTYPE=text/html:<p><span style="font-size: 16px\;"><strong>Canceled - Due to the COVID-19 pandemic this event has been canceled for 2020.</strong><br />\n<br />\nThe Business Improvement District&nbsp\;(BID) is excited to be hosting the Downtown&nbsp\;Holiday Parade.&nbsp\;&nbsp\;<span style="color: black\;"><span style="color: black\;">The parade will wind its way downtown\, and end up with Santa lighting the gigantic holiday tree in Commerce Plaza. There will be hot beverages and treats on the streets to keep you warm.</span></span><br />\n<br />\n<strong>To register:&nbsp\; </strong><a href="https://neiraeventgroup.com/portageholidayparade">https://neiraeventgroup.com/portageholidayparade</a><br />\nContact Fiorella at&nbsp\; <a href="mailto:hello@neiraeventgroup.com">hello@neiraeventgroup.com</a>&nbsp\; or 608-432-4624<br />\n<br />\nThe parade route will start at 6pm near Pauquette Park\, proceed down Conant Street turn right onto Wisconsin\, left onto Cook Street and follow to Adams Street\, where it will end.</span><br />\n&nbsp\;</p>\n\n<p style="white-space: pre-wrap\;">&nbsp\;</p>\n\n<p style="white-space: pre-wrap\;">&nbsp\;</p>\n\n<p style="white-space: pre-wrap\;">&nbsp\;</p>\n\n<p style="white-space: pre-wrap\;">&nbsp\;</p>\n<br />\n<br />\n&nbsp\;
LOCATION:
UID:e.374.26830
SEQUENCE:3
DTSTAMP:20260422T083828Z
URL:https://business.portagewi.com/events/details/canceled-holiday-lighted-parade-tree-lighting-26830
END:VEVENT

END:VCALENDAR
