BEGIN:VCALENDAR
VERSION:2.0
PRODID:-//ChamberMaster//Event Calendar 2.0//EN
METHOD:PUBLISH
X-PUBLISHED-TTL:P3D
REFRESH-INTERVAL:P3D
CALSCALE:GREGORIAN
BEGIN:VEVENT
DTSTART:20131214T220000Z
DTEND:20131215T020000Z
X-MICROSOFT-CDO-ALLDAYEVENT:FALSE
SUMMARY:Chili Supper for Portage Skateboard Park Foundation
DESCRIPTION:Help support the Portage Skateboard Park initiative by attending the Chili Supper at the VFW. Dinner includes chili\, rolls\, crackers\, cake for dessert\, milk and coffee for only $5.
X-ALT-DESC;FMTTYPE=text/html:Help support&nbsp\;the Portage Skateboard Park initiative by attending the Chili Supper at the VFW. Dinner includes chili\, rolls\, crackers\, cake for dessert\, milk and coffee for only $5.&nbsp\;&nbsp\;
LOCATION:VFW\, behind Walgreens on New Pinery Rd.
UID:e.374.9264
SEQUENCE:3
DTSTAMP:20260422T233555Z
URL:https://business.portagewi.com/events/details/chili-supper-for-portage-skateboard-park-foundation-12-14-2013-9264
END:VEVENT

END:VCALENDAR
