BEGIN:VCALENDAR
VERSION:2.0
PRODID:-//ChamberMaster//Event Calendar 2.0//EN
METHOD:PUBLISH
X-PUBLISHED-TTL:P3D
REFRESH-INTERVAL:P3D
CALSCALE:GREGORIAN
BEGIN:VEVENT
DTSTART:20201224T233000Z
DTEND:20201225T010000Z
X-MICROSOFT-CDO-ALLDAYEVENT:FALSE
SUMMARY:Christmas Eve Drive-In Candlelight Service
DESCRIPTION:5:30pm at the Portage Presbyterian Church\, December 24\n\nChristmas Eve "Drive In" Candlelight Service\n\n\n\nThis will be the "first" of "three" worship opportunities we are offering this year for Christmas Eve.  You can "drive in" for this service in the parking lot behind the church. Turn your radio to "90.5 FM" and share in this unique and wonderful experience for worship the birth of Jesus.  When you arrive\, you will be given a "candle" to use during the service when we sing "Silent Night"
X-ALT-DESC;FMTTYPE=text/html:<div style="margin: 0in 0in 0pt\;"><span style="font-family:arial\;"><span style="font-size:14px\;">5:30pm at the Portage Presbyterian Church\, December 24<br />\nChristmas Eve &ldquo\;Drive In&rdquo\; Candlelight Service<br />\n<br />\nThis will be the &quot\;first&quot\; of &quot\;three&quot\; worship opportunities we are offering this year for Christmas Eve.&nbsp\; You can &quot\;drive in&quot\; for this service in the parking lot behind the church. Turn your radio to &quot\;90.5 FM&quot\; and share in this unique and wonderful experience for worship the birth of Jesus.&nbsp\; When you arrive\, you will be given a &quot\;candle&quot\; to use during the service when we sing &quot\;Silent Night&quot\;</span></span><br />\n&nbsp\;</div>\n
LOCATION:Portage Presbyterian Church 120 West Pleasant Street 608-742-6006
UID:e.374.27974
SEQUENCE:3
DTSTAMP:20260422T102610Z
URL:https://business.portagewi.com/events/details/christmas-eve-drive-in-candlelight-service-27974
END:VEVENT

END:VCALENDAR
