BEGIN:VCALENDAR
VERSION:2.0
PRODID:-//ChamberMaster//Event Calendar 2.0//EN
METHOD:PUBLISH
X-PUBLISHED-TTL:P3D
REFRESH-INTERVAL:P3D
CALSCALE:GREGORIAN
BEGIN:VEVENT
DTSTART;VALUE=DATE:20201224
DTEND;VALUE=DATE:20201225
TRANSP:TRANSPARENT
X-MICROSOFT-CDO-ALLDAYEVENT:TRUE
SUMMARY:Christmas Eve Service - Online Only
DESCRIPTION:6:30pm online at the Portage Presbyterian Church Facebook Page on December 24 \n\nThis will be the "second" worship opportunity being offered.\n\nYou will be able to go to PPC's "Facebook Page" and share in a "traditional" worship experience of Scripture and Song as we celebrate the birth of the Christ Child. Be sure to have your "candle" ready when we "share the light" and sing "Silent Night"
X-ALT-DESC;FMTTYPE=text/html:<p style="margin: 0in 0in 0pt\;"><span style="font-size:14px\;"><span style="font-family:arial\;">6:30pm online at the Portage Presbyterian Church Facebook Page on December 24 </span></span></p>\n\n<p style="margin: 0in 0in 0pt\;"><span style="font-size:14px\;"><span style="font-family:arial\;">This will be the &quot\;second&quot\; worship opportunity being offered.<br />\nYou will be able to go to PPC&#39\;s &quot\;Facebook Page&quot\; and share in a &quot\;traditional&quot\; worship experience of Scripture and Song as we celebrate the birth of the Christ Child. Be sure to have your &quot\;candle&quot\; ready when we &quot\;share the light&quot\; and sing &quot\;Silent Night&quot\;</span></span><br />\n&nbsp\;</p>\n
LOCATION:Portage Presbyterian Church 120 West Pleasant Street 608-742-6006
UID:e.374.27975
SEQUENCE:3
DTSTAMP:20260422T085824Z
URL:https://business.portagewi.com/events/details/christmas-eve-service-online-only-27975
END:VEVENT

END:VCALENDAR
