BEGIN:VCALENDAR
VERSION:2.0
PRODID:-//ChamberMaster//Event Calendar 2.0//EN
METHOD:PUBLISH
X-PUBLISHED-TTL:P3D
REFRESH-INTERVAL:P3D
CALSCALE:GREGORIAN
BEGIN:VEVENT
DTSTART;VALUE=DATE:20200611
DTEND;VALUE=DATE:20200614
TRANSP:TRANSPARENT
X-MICROSOFT-CDO-ALLDAYEVENT:TRUE
SUMMARY:Citywide Garage Sales
DESCRIPTION:Deals throughout Portage at the Citywide Garage Sales Weekend!\n\nSend your garage sales to us by email at pacc@portagewi.com and we will post online.  Please include your street address and the time of your sale on each day.\n\n\n\nDeadline to post your sale on our website is Friday\, June 5\, 2020.  \n\nPlease continue to practice social distancing guidelines and use your own judgement when hosting a sale and shopping at other sales.  \n\n\n\n2020 Portage Citywide Garage Sale List - June 11\, 12\, 13\, 2020 \n\n\n	\n		\n			Address\n			Thursday 11th\n			Friday 12th\n			Saturday 13th\n		\n	\n	\n		\n			120 East Franklin Street\n			--------\n			8am-5pm\n			8am-5pm\n		\n		\n			500 Evergreen Trail\n\n			(church run sale)\n			8am-5pm\n			8am-5pm\n			8am-Noon\n\n			(everything 1/2 off)\n		\n		\n			653 Mooreland Circle\n			8am-4pm\n			8am-4pm\n			8am-Noon\n		\n		\n			108 West Slifer Street\n			10am-?\n			9am-?\n			9am-?\n		\n		\n			W8587 Sandhill Crane Rd\n\n			(take 33 East to Pacific Estates)\n\n			 \n			8am-6pm\n			8am-6pm\n			8am-6pm\n		\n		\n			504 Sunset Street\n			8am-4:30pm\n			8am-4:30pm\n			8am-4:30pm\n		\n		\n			2425 Wild Rose Ct\n			8am-5pm\n			8am-5pm\n			8am-3pm\n		\n		\n			604 Saddle Ridge (East on Hwy 33)\n			-------\n			8am-3pm\n			8am-3pm\n		\n		\n			1701 E. State Road 33\n\n			(At the Fox River on Hwy 33)\n\n			 \n			7am-5pm\n			7am-5pm\n			7am-5pm\n		\n		\n			522 West Slifer Street\n			8am - ??\n			8am-??\n			----\n		\n		\n			107 Pauquette Street\n			-------\n			8am-4pm\n			8am-4pm\n		\n		\n			2601 Dorn Drive\n			7am-5pm\n			7am-5pm\n			7am-3pm\n		\n		\n			616 Latton Lane\n			Noon-4pm\n			8am-4pm\n			8am-Noon\n		\n		\n			2305 W. Wisconsin Street - behind Portage Glass\n			------\n			8am-4pm\n			8am-4pm\n		\n		\n			131 E. Marion Street\n			-----\n			9am-5pm\n			------\n		\n		\n			717 Mooreland Circle      \n			8am-4pm\n			8am-4pm\n			8am-Noon\n		\n		\n			2606 Woodcrest Drive    \n			8am-4pm\n			8am-4pm\n			8am-4pm\n		\n		\n			306 East Edgewater Street\n			8am-3pm\n			8am-3pm\n			8am-Noon\n		\n		\n			515 East Conant Street\n			11am - ?\n			11am - ?\n			------\n		\n		\n			W9060 Hilltop Road\n			8am-3pm\n			8am-3pm\n			8am-Noon\n		\n		\n			322 Washington Street\n			8am - ?\n			8am - ?\n			8am - ?\n		\n		\n			121 Brady Street (In alley)\n			8am-5pm\n			3pm-6pm\n			8am-5pm\n		\n		\n			533 West Conant Street\n			Noon-6pm\n			Noon-6pm\n			Noon-6pm\n		\n		\n			2481 Red Pine Court\n			8am-4pm\n			8am-4pm\n			8am-Noon\n		\n		\n			6028 Saddle Ridge\n			4pm-6pm\n			11am-4pm\n			7am-Noon\n		\n		\n			W6460 Hwy 33\n			-----\n			8am-3pm\n			8am-3pm\n		\n		\n			109 East Marion Street\n			TBD\n			TBD\n			TBD\n		\n		\n			W8461 Foote Drive\n			8am-5pm\n			8am-5pm\n			8am-5pm\n		\n		\n			601 Wauona Trail Lot 89\n			8am-4pm\n			8am-4pm\n			8am-4pm\n		\n		\n			331 Oneida Street\n			8am-4pm\n			8am-4pm\n			------\n		\n		\n			405 East Carroll Street\n			-----\n			7am-5pm\n			7am-3pm\n		\n		\n			W10725 County Road X\n			8am-4:30pm\n			8am-4:30pm\n			8am-Noon\n		\n		\n			408 West Edgewater Street\n			7:30am-3pm\n			7:30am-3pm\n			7:30am-3pm\n		\n		\n			523 West Carroll Street (in alley behind house)\n			8am-5pm\n			8am-5pm\n			8am-5pm\n		\n		\n			W8915 Hilltop Road\n			-------\n			8am-5pm\n			8am-5pm\n		\n		\n			555 East Slifer Street\n			8am-4pm\n			8am-4pm\n			-----------\n		\n		\n			2812 New Pinery Road\n			8am-5pm\n			8am-5pm\n			--------
X-ALT-DESC;FMTTYPE=text/html:<div>\n<p><span style="font-size: 16px\;"><span style="font-family: arial\;">Deals throughout Portage at the&nbsp\;Citywide Garage Sales Weekend!<br />\nSend your garage sales to us by email at <a href="mailto:pacc@portagewi.com">pacc@portagewi.com</a> and we will post online.&nbsp\; Please include your street address and the time of your sale on each day.<br />\n<br />\n<em><strong>Deadline to post your sale on our website is Friday\, June 5\, 2020.&nbsp\; </strong></em><br />\nPlease continue to practice social distancing guidelines and use your own judgement when hosting a sale and shopping at other sales.&nbsp\;&nbsp\;</span></span><br />\n<br />\n<u><strong><span style="font-size: 16px\;">2020 Portage Citywide Garage Sale List - June 11\, 12\, 13\, 2020 </span></strong></u></p>\n\n<table align="left" border="2" cellpadding="1" cellspacing="1" style="width: 621px\; height: 1764px\;">\n	<thead>\n		<tr>\n			<th scope="col" style="text-align: left\;"><span style="font-size: 14px\;"><u>Address</u></span></th>\n			<th scope="col" style="text-align: left\;"><span style="font-size: 14px\;"><u>Thursday 11th</u></span></th>\n			<th scope="col" style="text-align: left\;"><span style="font-size: 14px\;"><u>Friday 12th</u></span></th>\n			<th scope="col" style="text-align: left\;"><span style="font-size: 14px\;"><u>Saturday 13th</u></span></th>\n		</tr>\n	</thead>\n	<tbody>\n		<tr>\n			<td><span style="font-size: 14px\;">120 East Franklin Street</span></td>\n			<td style="text-align: center\;"><span style="font-size: 14px\;">--------</span></td>\n			<td style="text-align: center\;"><span style="font-size: 14px\;">8am-5pm</span></td>\n			<td style="text-align: center\;"><span style="font-size: 14px\;">8am-5pm</span></td>\n		</tr>\n		<tr>\n			<td><span style="font-size: 14px\;">500 Evergreen Trail<br />\n			(church run sale)</span></td>\n			<td style="text-align: center\;"><span style="font-size: 14px\;">8am-5pm</span></td>\n			<td style="text-align: center\;"><span style="font-size: 14px\;">8am-5pm</span></td>\n			<td style="text-align: center\;"><span style="font-size: 14px\;">8am-Noon<br />\n			(everything 1/2 off)</span></td>\n		</tr>\n		<tr>\n			<td><span style="font-size: 14px\;">653 Mooreland Circle</span></td>\n			<td style="text-align: center\;"><span style="font-size: 14px\;">8am-4pm</span></td>\n			<td style="text-align: center\;"><span style="font-size: 14px\;">8am-4pm</span></td>\n			<td style="text-align: center\;"><span style="font-size: 14px\;">8am-Noon</span></td>\n		</tr>\n		<tr>\n			<td><span style="font-size: 14px\;">108 West Slifer Street</span></td>\n			<td style="text-align: center\;"><span style="font-size: 14px\;">10am-?</span></td>\n			<td style="text-align: center\;"><span style="font-size: 14px\;">9am-?</span></td>\n			<td style="text-align: center\;"><span style="font-size: 14px\;">9am-?</span></td>\n		</tr>\n		<tr>\n			<td><span style="font-size: 14px\;">W8587 Sandhill Crane Rd<br />\n			(take 33 East to Pacific Estates)<br />\n			&nbsp\;</span></td>\n			<td style="text-align: center\;"><span style="font-size: 14px\;">8am-6pm</span></td>\n			<td style="text-align: center\;"><span style="font-size: 14px\;">8am-6pm</span></td>\n			<td style="text-align: center\;"><span style="font-size: 14px\;">8am-6pm</span></td>\n		</tr>\n		<tr>\n			<td><span style="font-size: 14px\;">504 Sunset Street</span></td>\n			<td style="text-align: center\;"><span style="font-size: 14px\;">8am-4:30pm</span></td>\n			<td style="text-align: center\;"><span style="font-size: 14px\;">8am-4:30pm</span></td>\n			<td style="text-align: center\;"><span style="font-size: 14px\;">8am-4:30pm</span></td>\n		</tr>\n		<tr>\n			<td><span style="font-size: 14px\;">2425&nbsp\;Wild Rose Ct</span></td>\n			<td style="text-align: center\;"><span style="font-size: 14px\;">8am-5pm</span></td>\n			<td style="text-align: center\;"><span style="font-size: 14px\;">8am-5pm</span></td>\n			<td style="text-align: center\;"><span style="font-size: 14px\;">8am-3pm</span></td>\n		</tr>\n		<tr>\n			<td><span style="font-size: 14px\;">604 Saddle Ridge (East on Hwy 33)</span></td>\n			<td style="text-align: center\;"><span style="font-size: 14px\;">-------</span></td>\n			<td style="text-align: center\;"><span style="font-size: 14px\;">8am-3pm</span></td>\n			<td style="text-align: center\;"><span style="font-size: 14px\;">8am-3pm</span></td>\n		</tr>\n		<tr>\n			<td><span style="font-size: 14px\;">1701 E. State Road 33<br />\n			(At the Fox River on Hwy 33)<br />\n			&nbsp\;</span></td>\n			<td style="text-align: center\;"><span style="font-size: 14px\;">7am-5pm</span></td>\n			<td style="text-align: center\;"><span style="font-size: 14px\;">7am-5pm</span></td>\n			<td style="text-align: center\;"><span style="font-size: 14px\;">7am-5pm</span></td>\n		</tr>\n		<tr>\n			<td><span style="font-size: 14px\;">522 West Slifer Street</span></td>\n			<td style="text-align: center\;"><span style="font-size: 14px\;">8am - ??</span></td>\n			<td style="text-align: center\;"><span style="font-size: 14px\;">8am-??</span></td>\n			<td style="text-align: center\;"><span style="font-size: 14px\;">----</span></td>\n		</tr>\n		<tr>\n			<td><span style="font-size: 14px\;">107 Pauquette Street</span></td>\n			<td style="text-align: center\;"><span style="font-size: 14px\;">-------</span></td>\n			<td style="text-align: center\;"><span style="font-size: 14px\;">8am-4pm</span></td>\n			<td style="text-align: center\;"><span style="font-size: 14px\;">8am-4pm</span></td>\n		</tr>\n		<tr>\n			<td><span style="font-size: 14px\;">2601 Dorn Drive</span></td>\n			<td style="text-align: center\;"><span style="font-size: 14px\;">7am-5pm</span></td>\n			<td style="text-align: center\;"><span style="font-size: 14px\;">7am-5pm</span></td>\n			<td style="text-align: center\;"><span style="font-size: 14px\;">7am-3pm</span></td>\n		</tr>\n		<tr>\n			<td><span style="font-size: 14px\;">616 Latton Lane</span></td>\n			<td style="text-align: center\;"><span style="font-size: 14px\;">Noon-4pm</span></td>\n			<td style="text-align: center\;"><span style="font-size: 14px\;">8am-4pm</span></td>\n			<td style="text-align: center\;"><span style="font-size: 14px\;">8am-Noon</span></td>\n		</tr>\n		<tr>\n			<td style="white-space: nowrap\;"><span style="font-size: 14px\;">2305 W. Wisconsin Street - behind Portage Glass</span></td>\n			<td style="text-align: center\;"><span style="font-size: 14px\;">------</span></td>\n			<td style="text-align: center\;"><span style="font-size: 14px\;">8am-4pm</span></td>\n			<td style="text-align: center\;"><span style="font-size: 14px\;">8am-4pm</span></td>\n		</tr>\n		<tr>\n			<td><span style="font-size: 14px\;">131 E. Marion Street</span></td>\n			<td style="text-align: center\;"><span style="font-size: 14px\;">-----</span></td>\n			<td style="text-align: center\;"><span style="font-size: 14px\;">9am-5pm</span></td>\n			<td style="text-align: center\;"><span style="font-size: 14px\;">------</span></td>\n		</tr>\n		<tr>\n			<td><span style="font-size: 14px\;">717 Mooreland Circle &nbsp\; &nbsp\; &nbsp\;</span></td>\n			<td style="text-align: center\;"><span style="font-size: 14px\;">8am-4pm</span></td>\n			<td style="text-align: center\;"><span style="font-size: 14px\;">8am-4pm</span></td>\n			<td style="text-align: center\;"><span style="font-size: 14px\;">8am-Noon</span></td>\n		</tr>\n		<tr>\n			<td><span style="font-size: 14px\;">2606 Woodcrest Drive&nbsp\;&nbsp\;&nbsp\;&nbsp\;</span></td>\n			<td style="text-align: center\;"><span style="font-size: 14px\;">8am-4pm</span></td>\n			<td style="text-align: center\;"><span style="font-size: 14px\;">8am-4pm</span></td>\n			<td style="text-align: center\;"><span style="font-size: 14px\;">8am-4pm</span></td>\n		</tr>\n		<tr>\n			<td><span style="font-size: 14px\;">306 East Edgewater Street</span></td>\n			<td style="text-align: center\;"><span style="font-size: 14px\;">8am-3pm</span></td>\n			<td style="text-align: center\;"><span style="font-size: 14px\;">8am-3pm</span></td>\n			<td style="text-align: center\;"><span style="font-size: 14px\;">8am-Noon</span></td>\n		</tr>\n		<tr>\n			<td><span style="font-size: 14px\;">515 East Conant Street</span></td>\n			<td style="text-align: center\;"><span style="font-size: 14px\;">11am - ?</span></td>\n			<td style="text-align: center\;"><span style="font-size: 14px\;">11am - ?</span></td>\n			<td style="text-align: center\;"><span style="font-size: 14px\;">------</span></td>\n		</tr>\n		<tr>\n			<td><span style="font-size: 14px\;">W9060 Hilltop Road</span></td>\n			<td style="text-align: center\;"><span style="font-size: 14px\;">8am-3pm</span></td>\n			<td style="text-align: center\;"><span style="font-size: 14px\;">8am-3pm</span></td>\n			<td style="text-align: center\;"><span style="font-size: 14px\;">8am-Noon</span></td>\n		</tr>\n		<tr>\n			<td><span style="font-size: 14px\;">322 Washington Street</span></td>\n			<td style="text-align: center\;"><span style="font-size: 14px\;">8am - ?</span></td>\n			<td style="text-align: center\;"><span style="font-size: 14px\;">8am - ?</span></td>\n			<td style="text-align: center\;"><span style="font-size: 14px\;">8am - ?</span></td>\n		</tr>\n		<tr>\n			<td><span style="font-size: 14px\;">121 Brady Street (In alley)</span></td>\n			<td style="text-align: center\;"><span style="font-size: 14px\;">8am-5pm</span></td>\n			<td style="text-align: center\;"><span style="font-size: 14px\;">3pm-6pm</span></td>\n			<td style="text-align: center\;"><span style="font-size: 14px\;">8am-5pm</span></td>\n		</tr>\n		<tr>\n			<td><span style="font-size: 14px\;">533 West Conant Street</span></td>\n			<td style="text-align: center\;"><span style="font-size: 14px\;">Noon-6pm</span></td>\n			<td style="text-align: center\;"><span style="font-size: 14px\;">Noon-6pm</span></td>\n			<td style="text-align: center\;"><span style="font-size: 14px\;">Noon-6pm</span></td>\n		</tr>\n		<tr>\n			<td><span style="font-size: 14px\;">2481 Red Pine Court</span></td>\n			<td style="text-align: center\;"><span style="font-size: 14px\;">8am-4pm</span></td>\n			<td style="text-align: center\;"><span style="font-size: 14px\;">8am-4pm</span></td>\n			<td style="text-align: center\;"><span style="font-size: 14px\;">8am-Noon</span></td>\n		</tr>\n		<tr>\n			<td><span style="font-size: 14px\;">6028 Saddle Ridge</span></td>\n			<td style="text-align: center\;"><span style="font-size: 14px\;">4pm-6pm</span></td>\n			<td style="text-align: center\;"><span style="font-size: 14px\;">11am-4pm</span></td>\n			<td style="text-align: center\;"><span style="font-size: 14px\;">7am-Noon</span></td>\n		</tr>\n		<tr>\n			<td><span style="font-size: 14px\;">W6460 Hwy 33</span></td>\n			<td style="text-align: center\;"><span style="font-size: 14px\;">-----</span></td>\n			<td style="text-align: center\;"><span style="font-size: 14px\;">8am-3pm</span></td>\n			<td style="text-align: center\;"><span style="font-size: 14px\;">8am-3pm</span></td>\n		</tr>\n		<tr>\n			<td><span style="font-size: 14px\;">109 East Marion Street</span></td>\n			<td style="text-align: center\;"><span style="font-size: 14px\;">TBD</span></td>\n			<td style="text-align: center\;"><span style="font-size: 14px\;">TBD</span></td>\n			<td style="text-align: center\;"><span style="font-size: 14px\;">TBD</span></td>\n		</tr>\n		<tr>\n			<td><span style="font-size: 14px\;">W8461 Foote Drive</span></td>\n			<td style="text-align: center\;"><span style="font-size: 14px\;">8am-5pm</span></td>\n			<td style="text-align: center\;"><span style="font-size: 14px\;">8am-5pm</span></td>\n			<td style="text-align: center\;"><span style="font-size: 14px\;">8am-5pm</span></td>\n		</tr>\n		<tr>\n			<td><span style="font-size: 14px\;">601 Wauona Trail Lot 89</span></td>\n			<td style="text-align: center\;"><span style="font-size: 14px\;">8am-4pm</span></td>\n			<td style="text-align: center\;"><span style="font-size: 14px\;">8am-4pm</span></td>\n			<td style="text-align: center\;"><span style="font-size: 14px\;">8am-4pm</span></td>\n		</tr>\n		<tr>\n			<td><span style="font-size: 14px\;">331 Oneida Street</span></td>\n			<td style="text-align: center\;"><span style="font-size: 14px\;">8am-4pm</span></td>\n			<td style="text-align: center\;"><span style="font-size: 14px\;">8am-4pm</span></td>\n			<td style="text-align: center\;"><span style="font-size: 14px\;">------</span></td>\n		</tr>\n		<tr>\n			<td><span style="font-size: 14px\;">405 East Carroll Street</span></td>\n			<td style="text-align: center\;"><span style="font-size: 14px\;">-----</span></td>\n			<td style="text-align: center\;"><span style="font-size: 14px\;">7am-5pm</span></td>\n			<td style="text-align: center\;"><span style="font-size: 14px\;">7am-3pm</span></td>\n		</tr>\n		<tr>\n			<td><span style="font-size: 14px\;">W10725 County Road X</span></td>\n			<td style="text-align: center\;"><span style="font-size: 14px\;">8am-4:30pm</span></td>\n			<td style="text-align: center\;"><span style="font-size: 14px\;">8am-4:30pm</span></td>\n			<td style="text-align: center\;"><span style="font-size: 14px\;">8am-Noon</span></td>\n		</tr>\n		<tr>\n			<td><span style="font-size: 14px\;">408&nbsp\;West Edgewater Street</span></td>\n			<td style="text-align: center\;"><span style="font-size: 14px\;">7:30am-3pm</span></td>\n			<td style="text-align: center\;"><span style="font-size: 14px\;">7:30am-3pm</span></td>\n			<td style="text-align: center\;"><span style="font-size: 14px\;">7:30am-3pm</span></td>\n		</tr>\n		<tr>\n			<td><span style="font-size: 14px\;">523 West Carroll Street (in alley behind house)</span></td>\n			<td style="text-align: center\;"><span style="font-size: 14px\;">8am-5pm</span></td>\n			<td style="text-align: center\;"><span style="font-size: 14px\;">8am-5pm</span></td>\n			<td style="text-align: center\;"><span style="font-size: 14px\;">8am-5pm</span></td>\n		</tr>\n		<tr>\n			<td><span style="font-size: 14px\;">W8915 Hilltop Road</span></td>\n			<td style="text-align: center\;">-------</td>\n			<td style="text-align: center\;">8am-5pm</td>\n			<td style="text-align: center\;">8am-5pm</td>\n		</tr>\n		<tr>\n			<td><span style="font-size: 14px\;">555 East Slifer Street</span></td>\n			<td style="text-align: center\;"><span style="font-size: 14px\;">8am-4pm</span></td>\n			<td style="text-align: center\;"><span style="font-size: 14px\;">8am-4pm</span></td>\n			<td style="text-align: center\;"><span style="font-size: 14px\;">-----------</span></td>\n		</tr>\n		<tr>\n			<td>2812 New Pinery Road</td>\n			<td style="text-align: center\;">8am-5pm</td>\n			<td style="text-align: center\;">8am-5pm</td>\n			<td style="text-align: center\;">--------</td>\n		</tr>\n		<tr>\n			<td>&nbsp\;</td>\n			<td style="text-align: center\;">&nbsp\;</td>\n			<td style="text-align: center\;">&nbsp\;</td>\n			<td style="text-align: center\;">&nbsp\;</td>\n		</tr>\n	</tbody>\n</table>\n\n<p style="text-align: center\;"><br />\n<span style="font-size: 14px\;">&nbsp\;<br />\n<br />\n&nbsp\;</span></p>\n\n<p><br />\n<br />\n&nbsp\;</p>\n\n<p><br />\n<span style="font-size: 12px\;"><span style="font-family: arial\;">&nbsp\;</span></span></p>\n\n<p>&nbsp\;</p>\n</div>\n
LOCATION:
UID:e.374.26633
SEQUENCE:3
DTSTAMP:20260420T020553Z
URL:https://business.portagewi.com/events/details/citywide-garage-sales-26633
END:VEVENT

END:VCALENDAR
