BEGIN:VCALENDAR
VERSION:2.0
PRODID:-//ChamberMaster//Event Calendar 2.0//EN
METHOD:PUBLISH
X-PUBLISHED-TTL:P3D
REFRESH-INTERVAL:P3D
CALSCALE:GREGORIAN
BEGIN:VEVENT
DTSTART:20201127T160000Z
DTEND:20201127T180000Z
X-MICROSOFT-CDO-ALLDAYEVENT:FALSE
SUMMARY:Create a Mixed Evergreen Porch Pot at Edgewater
DESCRIPTION:Join us for this workshop to create your own evergreen porch pot. Create a beautiful mixed evergreen pot for your front steps or porch! Fee based on materials used. Social distancing and all safety precautions will be in place. Masks are required.
X-ALT-DESC;FMTTYPE=text/html:<span class="fsl">Join us for this workshop to create your own evergreen porch pot.&nbsp\;</span>Create a beautiful mixed evergreen pot for your front steps or porch! Fee based on materials used. Social distancing and all safety precautions will be in place. Masks are required.
LOCATION:Edgewater Home and Garden 2957 Highway CX Portage\, Wisconsin 53901
UID:e.374.26843
SEQUENCE:3
DTSTAMP:20260422T084204Z
URL:https://business.portagewi.com/events/details/create-a-mixed-evergreen-porch-pot-at-edgewater-26843
END:VEVENT

END:VCALENDAR
