BEGIN:VCALENDAR
VERSION:2.0
PRODID:-//ChamberMaster//Event Calendar 2.0//EN
METHOD:PUBLISH
X-PUBLISHED-TTL:P3D
REFRESH-INTERVAL:P3D
CALSCALE:GREGORIAN
BEGIN:VEVENT
DTSTART;VALUE=DATE:20200828
DTEND;VALUE=DATE:20200829
TRANSP:TRANSPARENT
X-MICROSOFT-CDO-ALLDAYEVENT:TRUE
SUMMARY:Customer Appreciation Day at Community Bank of Portage
DESCRIPTION:We look forward to hosting our annual Customer Appreciation Day a bit differently this year! Visit Community Bank of Portage on August 28th for our Curbside Cookout from 11am-2pm.
X-ALT-DESC;FMTTYPE=text/html:<span style="font-size:14px\;"><span style="color:#333333\;"><span style="font-family:arial\,sans-serif\;">We look forward to hosting our annual Customer Appreciation Day a bit differently this year! Visit Community Bank of Portage on <span style="font-family:arial\,sans-serif\;">August 28th </span>for our Curbside Cookout from 11am-2pm.</span></span></span><br />\n<br />\n&nbsp\;
LOCATION:
UID:e.374.27799
SEQUENCE:3
DTSTAMP:20260420T051926Z
URL:https://business.portagewi.com/events/details/customer-appreciation-day-at-community-bank-of-portage-27799
END:VEVENT

END:VCALENDAR
