BEGIN:VCALENDAR
VERSION:2.0
PRODID:-//ChamberMaster//Event Calendar 2.0//EN
METHOD:PUBLISH
X-PUBLISHED-TTL:P3D
REFRESH-INTERVAL:P3D
CALSCALE:GREGORIAN
BEGIN:VEVENT
DTSTART:20201225T000000Z
DTEND:20201225T010000Z
X-MICROSOFT-CDO-ALLDAYEVENT:FALSE
SUMMARY:Drive-thru and see Santa at the Elks Lodge
DESCRIPTION:Come drive-thru along Conant Street to wave and see Santa at the Portage Elks Lodge on Christmas Eve\, Thursday\, December 24 from 6pm to 7pm. For more information\, call the Portage Elks Lodge\, 608-742-6040.\n\n201 West  Conant Street.
X-ALT-DESC;FMTTYPE=text/html:<div><span style="font-size:14px\;"><span style="font-family:arial\;"><span style="color: rgb(0\, 0\, 0)\;">Come drive-thru along Conant Street to wave and see Santa at&nbsp\;the Portage Elks Lodge on Christmas Eve\, Thursday\, December 24 from 6pm to 7pm. For more information\, call the Portage Elks Lodge\, 608-742-6040.<br />\n201 </span><span style="color: rgb(0\, 0\, 0)\;">West&nbsp\;&nbsp\;Conant Street.</span></span></span></div>\n<br />\n&nbsp\;
LOCATION:
UID:e.374.26838
SEQUENCE:3
DTSTAMP:20260422T102750Z
URL:https://business.portagewi.com/events/details/drive-thru-and-see-santa-at-the-elks-lodge-26838
END:VEVENT

END:VCALENDAR
