BEGIN:VCALENDAR
VERSION:2.0
PRODID:-//ChamberMaster//Event Calendar 2.0//EN
METHOD:PUBLISH
X-PUBLISHED-TTL:P3D
REFRESH-INTERVAL:P3D
CALSCALE:GREGORIAN
BEGIN:VEVENT
DTSTART;VALUE=DATE:20200828
DTEND;VALUE=DATE:20200830
TRANSP:TRANSPARENT
X-MICROSOFT-CDO-ALLDAYEVENT:TRUE
SUMMARY:Drive Thru Brat Sale at Portage VFW
DESCRIPTION:11AM-4PM each day at the Portage VFW. \n\nCome get a brat at our drive through brat sale.
X-ALT-DESC;FMTTYPE=text/html:11AM-4PM each day at the Portage VFW.&nbsp\;<br />\nCome get a brat at our drive through brat sale.&nbsp\;
LOCATION:
UID:e.374.27815
SEQUENCE:3
DTSTAMP:20260420T051745Z
URL:https://business.portagewi.com/events/details/drive-thru-brat-sale-at-portage-vfw-27815
END:VEVENT

END:VCALENDAR
