BEGIN:VCALENDAR
VERSION:2.0
PRODID:-//ChamberMaster//Event Calendar 2.0//EN
METHOD:PUBLISH
X-PUBLISHED-TTL:P3D
REFRESH-INTERVAL:P3D
CALSCALE:GREGORIAN
BEGIN:VEVENT
DTSTART:20201009T160000Z
DTEND:20201009T210000Z
X-MICROSOFT-CDO-ALLDAYEVENT:FALSE
SUMMARY:Drive Thru Brat Sale at Portage VFW
DESCRIPTION:11AM-4PM at the Portage VFW parking lot\, 215 W. Collins St. \n\nCome get a brat at our drive through brat sale!
X-ALT-DESC;FMTTYPE=text/html:11AM-4PM at the Portage VFW parking lot\, 215 W. Collins St.&nbsp\;<br />\nCome get a brat at our drive through brat sale!
LOCATION:
UID:e.374.27912
SEQUENCE:3
DTSTAMP:20260422T070907Z
URL:https://business.portagewi.com/events/details/drive-thru-brat-sale-at-portage-vfw-27912
END:VEVENT

END:VCALENDAR
