BEGIN:VCALENDAR
VERSION:2.0
PRODID:-//ChamberMaster//Event Calendar 2.0//EN
METHOD:PUBLISH
X-PUBLISHED-TTL:P3D
REFRESH-INTERVAL:P3D
CALSCALE:GREGORIAN
BEGIN:VEVENT
DTSTART:20200621T160000Z
DTEND:20200621T180000Z
X-MICROSOFT-CDO-ALLDAYEVENT:FALSE
SUMMARY:Farewell Drive-By for Pastor Tom
DESCRIPTION:We can't let Pastor Tom have his final day at Portage United Methodist Church without some fanfare\, can we? \n\n\n\nSo\, please join us in celebrating Pastor Tom and all that he has done and meant at Portage United Methodist Church\, with a 'social distancing' Drive-By.\n\n\n\nFollow the signs and drive under the overhang to share a couple words with Pastor Tom and his wife\, Wendy as they sit under the overhang.  Just a few words though as this celebration doesn't take the place of the Retirement Celebration later this fall.\n\n\n\nLet's make this a day to remember for Pastor Tom!
X-ALT-DESC;FMTTYPE=text/html:<span style="font-family:arial\;"><span style="font-size:14px\;">We can&#39\;t let Pastor Tom have his final day at Portage United Methodist Church without some fanfare\, can we?&nbsp\;<br />\n<br />\nSo\, please join us in celebrating Pastor Tom and all that he has done and meant at Portage United Methodist Church\, with a &#39\;social distancing&#39\; Drive-By.<br />\n<br />\nFollow the signs and drive under the overhang to share a couple words with Pastor Tom and his wife\, Wendy as they sit under the overhang.&nbsp\; Just a few words though as this celebration doesn&#39\;t take the place of the Retirement Celebration later this fall.<br />\n<br />\nLet&#39\;s make this a day to remember for Pastor Tom!</span></span><br />\n<br />\n&nbsp\;
LOCATION:1804 New Pinery Road
UID:e.374.27755
SEQUENCE:3
DTSTAMP:20260420T015239Z
URL:https://business.portagewi.com/events/details/farewell-drive-by-for-pastor-tom-27755
END:VEVENT

END:VCALENDAR
