BEGIN:VCALENDAR
VERSION:2.0
PRODID:-//ChamberMaster//Event Calendar 2.0//EN
METHOD:PUBLISH
X-PUBLISHED-TTL:P3D
REFRESH-INTERVAL:P3D
CALSCALE:GREGORIAN
BEGIN:VEVENT
DTSTART:20201107T170000Z
DTEND:20201107T180000Z
X-MICROSOFT-CDO-ALLDAYEVENT:FALSE
SUMMARY:Final Empire Series at Seventh-day Adventist Church
DESCRIPTION:Come experience the Final Empire Series at Seventh-day Adventist Church.  Religious Liberty's Last Stand.
X-ALT-DESC;FMTTYPE=text/html:<span style="font-family:arial\;"><span style="font-size:14px\;">Come experience the Final Empire Series at Seventh-day Adventist Church.&nbsp\; Religious Liberty&#39\;s Last Stand.</span></span><br />\n&nbsp\;
LOCATION:Seventh-Day Adventist Church 2100 E. State Hwy 33
UID:e.374.27954
SEQUENCE:3
DTSTAMP:20260422T084437Z
URL:https://business.portagewi.com/events/details/final-empire-series-at-seventh-day-adventist-church-27954
END:VEVENT

END:VCALENDAR
