BEGIN:VCALENDAR
VERSION:2.0
PRODID:-//ChamberMaster//Event Calendar 2.0//EN
METHOD:PUBLISH
X-PUBLISHED-TTL:P3D
REFRESH-INTERVAL:P3D
CALSCALE:GREGORIAN
BEGIN:VEVENT
DTSTART:20120527T120000Z
DTEND:20120527T180000Z
X-MICROSOFT-CDO-ALLDAYEVENT:FALSE
SUMMARY:Fly-In Breakfast at Portage Airport
DESCRIPTION:Join us for the Fly-In Breakfast from 7am-1pm.  Eggs cooked to order along with pancakes\, sausage\, milk\, juice and coffee.  $6 per person.\n\n	\n\n	See the planes up close and talk with the pilots.
X-ALT-DESC;FMTTYPE=text/html:<div>\n	Join us for the Fly-In Breakfast from 7am-1pm.&nbsp\; Eggs cooked to order along with pancakes\, sausage\, milk\, juice and coffee.&nbsp\;&nbsp\;$6 per person.<br />\n	<br />\n	See the planes up close&nbsp\;and talk with the&nbsp\;pilots.</div>\n
LOCATION:Portage Airport 1011 Silver Lake Dr. 742-3300
UID:e.374.6802
SEQUENCE:3
DTSTAMP:20260423T023629Z
URL:https://business.portagewi.com/events/details/fly-in-breakfast-at-portage-airport-05-27-2012-6802
END:VEVENT

END:VCALENDAR
