BEGIN:VCALENDAR
VERSION:2.0
PRODID:-//ChamberMaster//Event Calendar 2.0//EN
METHOD:PUBLISH
X-PUBLISHED-TTL:P3D
REFRESH-INTERVAL:P3D
CALSCALE:GREGORIAN
BEGIN:VEVENT
DTSTART:20201021T233000Z
DTEND:20201022T013000Z
X-MICROSOFT-CDO-ALLDAYEVENT:FALSE
SUMMARY:Fox Cities Paranormal Team at the Library
DESCRIPTION:Halloween is right around the corner interested in the paranormal? Fox Cities Paranormal Team will be coming to the Portage Public Library on Wednesday\, October 21 from 6:30-8:30 pm. Learn about how paranormal research is conducted. Must register in advance. Space is limited. To register\, email programs@portagelibrary.us or call (608) 742-4959.
X-ALT-DESC;FMTTYPE=text/html:Halloween is right around the corner&hellip\;interested in the paranormal? Fox Cities Paranormal Team will be coming to the Portage Public Library on Wednesday\, October 21 from 6:30-8:30 pm. Learn about how paranormal research is conducted. Must register in advance. Space is limited. To register\, email programs@portagelibrary.us or call (608) 742-4959.
LOCATION:Portage Public Library\, 253 W. Edgewater St Portage\, WI
UID:e.374.27846
SEQUENCE:3
DTSTAMP:20260422T052640Z
URL:https://business.portagewi.com/events/details/fox-cities-paranormal-team-at-the-library-27846
END:VEVENT

END:VCALENDAR
