BEGIN:VCALENDAR
VERSION:2.0
PRODID:-//ChamberMaster//Event Calendar 2.0//EN
METHOD:PUBLISH
X-PUBLISHED-TTL:P3D
REFRESH-INTERVAL:P3D
CALSCALE:GREGORIAN
BEGIN:VEVENT
DTSTART:20201104T000000Z
DTEND:20201104T010000Z
X-MICROSOFT-CDO-ALLDAYEVENT:FALSE
SUMMARY:Free Yoga at the Portage Public Library
DESCRIPTION:Sign-up for a free yoga session at the Portage Public Library! Join Madleen Alsabbah from Bee Alive Yoga Studio at the Portage Public Library on Tuesday\, November 3 from 6-7 pm for a yoga session! Space is limited. Must register in advance. Beginners welcome. Bring a yoga mat if you have one. To register\, email programs@portagelibrary.us or call the library at (608) 742-4959.
X-ALT-DESC;FMTTYPE=text/html:Sign-up for a free yoga session at the Portage Public Library! Join Madleen Alsabbah from Bee Alive Yoga Studio at the Portage Public Library on Tuesday\, November 3 from 6-7 pm for a yoga session! Space is limited. Must register in advance. Beginners welcome. Bring a yoga mat if you have one. To register\, email programs@portagelibrary.us or call the library at (608) 742-4959.
LOCATION:Portage Public Library\, 253 W Edgewater St Portage\, WI 53901
UID:e.374.27920
SEQUENCE:3
DTSTAMP:20260422T090410Z
URL:https://business.portagewi.com/events/details/free-yoga-at-the-portage-public-library-11-03-2020-27920
END:VEVENT

END:VCALENDAR
