BEGIN:VCALENDAR
VERSION:2.0
PRODID:-//ChamberMaster//Event Calendar 2.0//EN
METHOD:PUBLISH
X-PUBLISHED-TTL:P3D
REFRESH-INTERVAL:P3D
CALSCALE:GREGORIAN
BEGIN:VEVENT
DTSTART:20200808T150000Z
DTEND:20200808T210000Z
X-MICROSOFT-CDO-ALLDAYEVENT:FALSE
SUMMARY:Fun Day Shoot
DESCRIPTION:2nd Annual Fun Day Shoot at the Portage Rod and gun Club. $20 for members and $25 for non-members. Food served all day\, door and raffle prizes available\, come out and shoot some trap or skeet. Rifle and pistol ranges will be open as well as the archery range
X-ALT-DESC;FMTTYPE=text/html:<span style="font-size: 14px\;"><span style="font-family: arial\;">2nd Annual Fun Day Shoot at the Portage Rod and gun Club. $20 for members and $25 for non-members. Food served all day\, door and raffle prizes available\, come out and shoot some trap or skeet. Rifle and pistol ranges will be open as well as the archery range</span></span>
LOCATION:Portage Rod and Gun Club located on highway 16 just outside of portage.
UID:e.374.27768
SEQUENCE:3
DTSTAMP:20260420T000804Z
URL:https://business.portagewi.com/events/details/fun-day-shoot-27768
END:VEVENT

END:VCALENDAR
