BEGIN:VCALENDAR
VERSION:2.0
PRODID:-//ChamberMaster//Event Calendar 2.0//EN
METHOD:PUBLISH
X-PUBLISHED-TTL:P3D
REFRESH-INTERVAL:P3D
CALSCALE:GREGORIAN
BEGIN:VEVENT
DTSTART;VALUE=DATE:20201114
DTEND;VALUE=DATE:20201115
TRANSP:TRANSPARENT
X-MICROSOFT-CDO-ALLDAYEVENT:TRUE
SUMMARY:Harvest Dinner - Drive Thru
DESCRIPTION:Now a Drive-Thru\n\nTurkey and all the trimmings\, including apple or pumpkin pie.    $15 per person.\n\nServing from 4pm until gone.
X-ALT-DESC;FMTTYPE=text/html:<span style="font-size: 16px\;"><span style="font-family: arial\;"><strong>Now a Drive-Thru</strong><br />\nTurkey and all the trimmings\, including apple or pumpkin pie. &nbsp\;&nbsp\; $15 per person.<br />\nServing from 4pm until gone.&nbsp\; </span></span><br />\n&nbsp\;
LOCATION:Portage Presbyterian Church 120 W Pleasant St
UID:e.374.26615
SEQUENCE:3
DTSTAMP:20260422T083838Z
URL:https://business.portagewi.com/events/details/harvest-dinner-drive-thru-26615
END:VEVENT

END:VCALENDAR
