BEGIN:VCALENDAR
VERSION:2.0
PRODID:-//ChamberMaster//Event Calendar 2.0//EN
METHOD:PUBLISH
X-PUBLISHED-TTL:P3D
REFRESH-INTERVAL:P3D
CALSCALE:GREGORIAN
BEGIN:VEVENT
DTSTART;VALUE=DATE:20201003
DTEND;VALUE=DATE:20201004
TRANSP:TRANSPARENT
X-MICROSOFT-CDO-ALLDAYEVENT:TRUE
SUMMARY:Historic Indian Agency Autumn History Hike
DESCRIPTION:If you missed our August guided history hike (or if you'd simply like to experience it again)\, please join us on a morning history hike amidst autumn colors through areas of great historical significance.  We will hike our Stories of the Land trail and highlight many of the fascinating stories connected to soil beneath our feet. Children may participate if accompanied by a responsible adult. Meet outside the visitor center by 7:45 a.m. Insect repellant and bottled water are recommended.\n\n \n\nMasks are required for the history hike.\n\n \n\nThis event is FREE for all! (A donation is appreciated.)
X-ALT-DESC;FMTTYPE=text/html:<div align="LEFT">If you missed our August guided history hike (or if you&#39\;d simply like to experience it again)\, please join us on a morning history hike amidst autumn colors through areas of great historical significance.&nbsp\; We will hike our Stories of the Land trail and highlight many of the fascinating stories connected to soil beneath our feet. Children may participate if accompanied by a responsible adult. Meet outside the visitor center by 7:45 a.m. Insect repellant and bottled water are recommended.<br />\n&nbsp\;<br />\nMasks are required for the history hike.<br />\n&nbsp\;<br />\nThis event is FREE for all! (A donation is appreciated.)<br />\n&nbsp\;</div>\n
LOCATION:
UID:e.374.26624
SEQUENCE:3
DTSTAMP:20260422T070617Z
URL:https://business.portagewi.com/events/details/historic-indian-agency-autumn-history-hike-26624
END:VEVENT

END:VCALENDAR
