BEGIN:VCALENDAR
VERSION:2.0
PRODID:-//ChamberMaster//Event Calendar 2.0//EN
METHOD:PUBLISH
X-PUBLISHED-TTL:P3D
REFRESH-INTERVAL:P3D
CALSCALE:GREGORIAN
BEGIN:VEVENT
DTSTART;VALUE=DATE:20120825
DTEND;VALUE=DATE:20120826
TRANSP:TRANSPARENT
X-MICROSOFT-CDO-ALLDAYEVENT:TRUE
SUMMARY:Historic Indian Agency House Booth at the Taste of Portage
DESCRIPTION:Free Kids Crafts
X-ALT-DESC;FMTTYPE=text/html:<p>\n	<em>Free Kids Crafts</em></p>\n
LOCATION:Taste of Portage
UID:e.374.6497
SEQUENCE:3
DTSTAMP:20260423T073052Z
URL:https://business.portagewi.com/events/details/historic-indian-agency-house-booth-at-the-taste-of-portage-08-25-2012-6497
END:VEVENT

END:VCALENDAR
