BEGIN:VCALENDAR
VERSION:2.0
PRODID:-//ChamberMaster//Event Calendar 2.0//EN
METHOD:PUBLISH
X-PUBLISHED-TTL:P3D
REFRESH-INTERVAL:P3D
CALSCALE:GREGORIAN
BEGIN:VEVENT
DTSTART;VALUE=DATE:20201205
DTEND;VALUE=DATE:20201206
TRANSP:TRANSPARENT
X-MICROSOFT-CDO-ALLDAYEVENT:TRUE
SUMMARY:Kid's House Decorating at Edgewater Home and Garden
DESCRIPTION:Kids\, come have some fun and decorate a graham house all your own! Space is limited so sign up early! Social distancing and all safety precautions will be in place. Masks are required.
X-ALT-DESC;FMTTYPE=text/html:<span style="font-size:14px\;"><span style="font-family:arial\;">Kids\, come have some fun and decorate a graham house all your own! Space is limited so sign up early! Social distancing and all safety precautions will be in place. Masks are required. </span></span><br />\n&nbsp\;
LOCATION:2957 County Highway CX Portage\, WI 53901
UID:e.374.26842
SEQUENCE:3
DTSTAMP:20260422T084534Z
URL:https://business.portagewi.com/events/details/kid-s-house-decorating-at-edgewater-home-and-garden-26842
END:VEVENT

END:VCALENDAR
