BEGIN:VCALENDAR
VERSION:2.0
PRODID:-//ChamberMaster//Event Calendar 2.0//EN
METHOD:PUBLISH
X-PUBLISHED-TTL:P3D
REFRESH-INTERVAL:P3D
CALSCALE:GREGORIAN
BEGIN:VEVENT
DTSTART:20201003T150000Z
DTEND:20201003T180000Z
X-MICROSOFT-CDO-ALLDAYEVENT:FALSE
SUMMARY:Kids Pumpkin Painting Workshop at Edgewater
DESCRIPTION:Lets paint! Cost per child is $5. Price includes small pumpkin\, disposable paint brush and paint plate. Please call (608) 742-6558 to make a reservation. Space is limited. We will be practicing social distancing\, so please call with any questions.
X-ALT-DESC;FMTTYPE=text/html:<div class="_63ew"><span>Lets paint! Cost per child is $5. Price includes small pumpkin\, disposable paint brush and paint plate. Please call (608) 742-6558 to make a reservation. Space is limited. We will be practicing social distancing\, so please call with any questions. </span></div>\n
LOCATION:Edgewater Home & Garden 2957 Highway CX Portage\, WI 53901
UID:e.374.27850
SEQUENCE:3
DTSTAMP:20260422T070437Z
URL:https://business.portagewi.com/events/details/kids-pumpkin-painting-workshop-at-edgewater-27850
END:VEVENT

END:VCALENDAR
