BEGIN:VCALENDAR
VERSION:2.0
PRODID:-//ChamberMaster//Event Calendar 2.0//EN
METHOD:PUBLISH
X-PUBLISHED-TTL:P3D
REFRESH-INTERVAL:P3D
CALSCALE:GREGORIAN
BEGIN:VEVENT
DTSTART:20140701T230000Z
DTEND:20140702T010000Z
X-MICROSOFT-CDO-ALLDAYEVENT:FALSE
SUMMARY:Listening session - Dave Considine\, Candidate for 81st Assembly
DESCRIPTION:Get to know 81st Assembly Democratic Candidate John Considine during this listening session at the Portage Public Library.
X-ALT-DESC;FMTTYPE=text/html:Get to know 81st Assembly Democratic Candidate John Considine during this listening session at the Portage Public Library.
LOCATION:Portage Public Library
UID:e.374.10625
SEQUENCE:3
DTSTAMP:20260422T120354Z
URL:https://business.portagewi.com/events/details/listening-session-dave-considine-candidate-for-81st-assembly-07-01-2014-10625
END:VEVENT

END:VCALENDAR
