BEGIN:VCALENDAR
VERSION:2.0
PRODID:-//ChamberMaster//Event Calendar 2.0//EN
METHOD:PUBLISH
X-PUBLISHED-TTL:P3D
REFRESH-INTERVAL:P3D
CALSCALE:GREGORIAN
BEGIN:VEVENT
DTSTART;VALUE=DATE:20200808
DTEND;VALUE=DATE:20200810
TRANSP:TRANSPARENT
X-MICROSOFT-CDO-ALLDAYEVENT:TRUE
SUMMARY:Living History at Historic Indian Agency House
DESCRIPTION:The Historical Timekeepers will reenact the second year of the Civil War (1862).  Come and discover the role the portage played in the upheavals of 1862.\n\n\n\nGet a wristband by either showing your membership card OR by paying regular admission. Your admission entitles you to a  tour of the museum / house\, plus you may spend as much time outside with the reenactors throughout the day as you desire!  \n\n\n\nThe reenactors are passionate about what they do\, and they have so much to share with you.  They will be encamped outside and cordoned off in a way that is socially distanced but still allows for easy interaction with visitors.  The reenactment takes place from 10 am to 4 pm each day.\n\n\n\n Masks are required at this event. Bring your own\, or purchase one in our gift shop.
X-ALT-DESC;FMTTYPE=text/html:<div>\n<div align="LEFT">\n<p class="font_7" style="text-align: justify\;"><span style="font-size:14px\;"><span style="font-family:arial\;"><span style="color:#202020\;">The Historical Timekeepers will reenact the second year of the Civil War (1862).&nbsp\; Come and discover the role the portage played in the&nbsp\;upheavals of 1862.<br />\n<br />\nGet a wristband by either showing your membership card OR by paying regular admission. Your&nbsp\;admission entitles&nbsp\;you&nbsp\;to a&nbsp\; tour of&nbsp\;the&nbsp\;museum&nbsp\;/&nbsp\;house\,&nbsp\;plus&nbsp\;you&nbsp\;may spend as much time outside&nbsp\;with the&nbsp\;reenactors throughout the day as you desire!&nbsp\;&nbsp\;<br />\n<br />\nThe reenactors are passionate about what they do\, and they have so much to share with you.&nbsp\; They will be encamped outside and cordoned off in a way that is&nbsp\;socially distanced but still allows for easy interaction with visitors.&nbsp\; The reenactment takes place from 10 am to 4 pm each day.<br />\n<br />\n&nbsp\;</span><strong><span style="color:#B33544\;">Masks are required at this event</span></strong><strong><span style="color:#B33544\;">.</span></strong><span style="color:#202020\;">&nbsp\;Bring your own\, or purchase one in our gift shop.</span></span></span></p>\n\n<p class="font_7" style="text-align: justify\;"><br />\n&nbsp\;</p>\n</div>\n</div>\n
LOCATION:Historic Indian Agency House 1490 Agency House Road Portage\, WI
UID:e.374.27759
SEQUENCE:3
DTSTAMP:20260420T052040Z
URL:https://business.portagewi.com/events/details/living-history-at-historic-indian-agency-house-27759
END:VEVENT

END:VCALENDAR
