BEGIN:VCALENDAR
VERSION:2.0
PRODID:-//ChamberMaster//Event Calendar 2.0//EN
METHOD:PUBLISH
X-PUBLISHED-TTL:P3D
REFRESH-INTERVAL:P3D
CALSCALE:GREGORIAN
BEGIN:VEVENT
DTSTART:20200819T230000Z
DTEND:20200820T000000Z
X-MICROSOFT-CDO-ALLDAYEVENT:FALSE
SUMMARY:Make a Decorative Dragonfly Planter
DESCRIPTION:Make a Decorative Dragonfly Planter at the Portage Public Library!\n\n\n\nMegan Mussehl\, from Prairie Flower Beads\, will be at the library on Wednesday\, August 19 from 6-7 pm to teach us how to make this unique\, nature-inspired craft. Staff will be wearing masks and practicing proper social distancing and we request that participants do the same.\n\nAll supplies are provided\, but interested patrons must register in advance.\n\n\n\nSpace is limited. To register\, email programs@portagelibrary.us or call (608) 742-4959. This program is generously funded by the Friends of the Portage Library.
X-ALT-DESC;FMTTYPE=text/html:<span style="font-size:14px\;"><span style="font-family:arial\;">Make a Decorative Dragonfly Planter at the Portage Public Library!<br />\n<br />\nMegan Mussehl\, from Prairie Flower Beads\, will be at the library on Wednesday\, August 19 from 6-7 pm to teach us how to make this unique\, nature-inspired craft. Staff will be wearing masks and practicing proper social distancing and we request that participants do the same.<br />\nAll supplies are provided\, but interested patrons must register in advance.<br />\n<br />\nSpace is limited. To register\, email programs@portagelibrary.us or call (608) 742-4959. This program is generously funded by the Friends of the Portage Library.</span></span>
LOCATION:Portage Public Library\, 235 W Edgewater St
UID:e.374.27791
SEQUENCE:3
DTSTAMP:20260420T050620Z
URL:https://business.portagewi.com/events/details/make-a-decorative-dragonfly-planter-27791
END:VEVENT

END:VCALENDAR
