BEGIN:VCALENDAR
VERSION:2.0
PRODID:-//ChamberMaster//Event Calendar 2.0//EN
METHOD:PUBLISH
X-PUBLISHED-TTL:P3D
REFRESH-INTERVAL:P3D
CALSCALE:GREGORIAN
BEGIN:VEVENT
DTSTART;VALUE=DATE:20141221
DTEND;VALUE=DATE:20141222
TRANSP:TRANSPARENT
X-MICROSOFT-CDO-ALLDAYEVENT:TRUE
SUMMARY:Marimba Christmas at Portage Center for the Arts
DESCRIPTION:A concert of holiday favorites performed on four marimbas. \n\n3:30pm  $5 at the door.
X-ALT-DESC;FMTTYPE=text/html:A concert of holiday favorites performed on four marimbas.&nbsp\;<br />\n3:30pm&nbsp\; $5 at the door.
LOCATION:
UID:e.374.11320
SEQUENCE:3
DTSTAMP:20260422T202444Z
URL:https://business.portagewi.com/events/details/marimba-christmas-at-portage-center-for-the-arts-12-21-2014-11320
END:VEVENT

END:VCALENDAR
