BEGIN:VCALENDAR
VERSION:2.0
PRODID:-//ChamberMaster//Event Calendar 2.0//EN
METHOD:PUBLISH
X-PUBLISHED-TTL:P3D
REFRESH-INTERVAL:P3D
CALSCALE:GREGORIAN
BEGIN:VEVENT
DTSTART:20190602T233000Z
DTEND:20190603T010000Z
X-MICROSOFT-CDO-ALLDAYEVENT:FALSE
SUMMARY:Night of Comedy at CrossPoint
DESCRIPTION:Night of Comedy featuring Terrence Talley\n\nPie Auction for the Speed of Light.\n\n$5 Admission Fee
X-ALT-DESC;FMTTYPE=text/html:<span style="font-size: 16px\;"><span style="font-family: arial\;">Night of Comedy featuring Terrence Talley<br />\nPie Auction for the Speed&nbsp\;of Light.<br />\n$5 Admission Fee</span></span>
LOCATION:CrossPoint Assembly of God 2727 County Road CX Portage\, WI
UID:e.374.26046
SEQUENCE:3
DTSTAMP:20260419T162443Z
URL:https://business.portagewi.com/events/details/night-of-comedy-at-crosspoint-26046
END:VEVENT

END:VCALENDAR
