BEGIN:VCALENDAR
VERSION:2.0
PRODID:-//ChamberMaster//Event Calendar 2.0//EN
METHOD:PUBLISH
X-PUBLISHED-TTL:P3D
REFRESH-INTERVAL:P3D
CALSCALE:GREGORIAN
BEGIN:VEVENT
DTSTART:20201024T180000Z
DTEND:20201024T200000Z
X-MICROSOFT-CDO-ALLDAYEVENT:FALSE
SUMMARY:Patriot Memorial Garden Dedication
DESCRIPTION:The Wisconsin Society of the Daughters of the American Revolution invite you to Honor our Patriots. \n\nJoin us for the Dedication of the Patriot Memorial Garden at Fort Winnebago Surgeons Quarters. \n\n\n\nA wall and walking path will be created using bricks engraved with the names and state of DAR\, WISSAR and C.A.R. patriots who aided in the Revolutionary War and gained our freedom as an independent country.  Help us memorialize these men and women that their sacrifice will long be remembered.
X-ALT-DESC;FMTTYPE=text/html:The Wisconsin Society of the Daughters of the American Revolution invite you to Honor our Patriots.&nbsp\;<br />\nJoin us for the Dedication of the Patriot Memorial Garden at Fort Winnebago Surgeons Quarters.&nbsp\;<br />\n<br />\nA wall and walking path will be created using bricks engraved with the names and state of DAR\, WISSAR and C.A.R. patriots who aided in the Revolutionary War and gained our freedom as an independent country.&nbsp\; Help us memorialize these men and women that their sacrifice will long be remembered.&nbsp\;
LOCATION:Fort Winnebago Surgeons Quarters 1824 Hwy 33 Portage\, WI
UID:e.374.27941
SEQUENCE:3
DTSTAMP:20260422T015226Z
URL:https://business.portagewi.com/events/details/patriot-memorial-garden-dedication-27941
END:VEVENT

END:VCALENDAR
