BEGIN:VCALENDAR
VERSION:2.0
PRODID:-//ChamberMaster//Event Calendar 2.0//EN
METHOD:PUBLISH
X-PUBLISHED-TTL:P3D
REFRESH-INTERVAL:P3D
CALSCALE:GREGORIAN
BEGIN:VEVENT
DTSTART;VALUE=DATE:20150302
DTEND;VALUE=DATE:20150303
TRANSP:TRANSPARENT
X-MICROSOFT-CDO-ALLDAYEVENT:TRUE
SUMMARY:Portage Area Community Theatre Informational Meeting
DESCRIPTION:Portage Area Community Theatre invites PACT members and potential PACT members to its quarterly informational meeting at the Portage Public Library on Monday\, March 2 at 6:00 p.m. to 6:30 p.m.  The purpose of the meeting is to answer any questions or concerns of the general membership.  Topics could include:  the formation of an investment policy committee for PACT funds\, scholarship information\, and details of the upcoming dinner theatre comedy in late April.  There will also be available details of the fall musical\, "Little Shop of Horrors".   Additionally\, the group can learn about the status of costumes which were moved because of flooding due to a frozen pipe.  \n\n \n\nAs a non-profit volunteer organization\, PACT strives to be available to its membership and open to any questions or concerns of individuals in the group.  For more information call president\, Sheril Lannoye\, at 742-5762.
X-ALT-DESC;FMTTYPE=text/html:<span style="font-family: arial\;"><span style="font-size: 12px\;"><span style="color: black\;">Portage Area Community Theatre invites PACT members and potential PACT members to its quarterly informational meeting at the Portage Public Library on Monday\, March 2 at 6:00 p.m. to 6:30 p.m.&nbsp\; The purpose of the meeting is to answer any questions or concerns of the general membership.&nbsp\; Topics could include:&nbsp\; the formation of an investment policy committee for PACT funds\, scholarship information\, and details of the upcoming dinner theatre comedy in late April.&nbsp\; There will also be available details of the fall musical\, &ldquo\;Little Shop of Horrors&rdquo\;.&nbsp\;&nbsp\; Additionally\, the group can learn about the status of costumes which were moved because of flooding due to a frozen pipe.&nbsp\; </span><br />\n&nbsp\;<br />\n<span style="color: black\;">As a non-profit volunteer organization\, PACT strives to be available to its membership and open to any questions or concerns of individuals in the group.&nbsp\; For more information call president\, Sheril Lannoye\, at 742-5762.</span></span></span><br />\n&nbsp\;
LOCATION:
UID:e.374.11473
SEQUENCE:3
DTSTAMP:20260423T011214Z
URL:https://business.portagewi.com/events/details/portage-area-community-theatre-informational-meeting-03-02-2015-11473
END:VEVENT

END:VCALENDAR
