BEGIN:VCALENDAR
VERSION:2.0
PRODID:-//ChamberMaster//Event Calendar 2.0//EN
METHOD:PUBLISH
X-PUBLISHED-TTL:P3D
REFRESH-INTERVAL:P3D
CALSCALE:GREGORIAN
BEGIN:VEVENT
DTSTART;VALUE=DATE:20120419
DTEND;VALUE=DATE:20120430
TRANSP:TRANSPARENT
X-MICROSOFT-CDO-ALLDAYEVENT:TRUE
SUMMARY:Portage Area Community Theatre presents Life with Mother Superior
DESCRIPTION:Portage Area community Theatre is proud to present Life with Mother Superior\, a comedy about a real life convent and girls' school in Illinois.  By Jane Trahey and Anna Helen Reuter.  Sheril Lannoye (producer)\n\n							\n\n							This is "One Heaven of a Play".  This is a great comedy based on the book that later became the movie The Trouble With Angels  which starred Rosiland Russell and Haley Mills.\n\n							\n\n							Life With Mother Superior  is presented by special arrangement with Dramatists Play Service Inc.\, New York.\n\n							\n\n							With help from the "Friends of Anne Zimmerman" Fund.
X-ALT-DESC;FMTTYPE=text/html:<div>\n	<div>\n		<table border="0" cellpadding="0" cellspacing="0">\n			<tbody>\n				<tr>\n					<td style="padding-bottom: 0in\; padding-left: 0in\; padding-right: 0in\; vertical-align: top\; padding-top: 0in">\n						<div>\n							<br />\n							Portage Area community Theatre is proud to present <em>Life with Mother Superior\, </em>a comedy about a real life convent and girls&#39\; school in Illinois.&nbsp\; By Jane Trahey and Anna Helen Reuter.&nbsp\; Sheril Lannoye (producer)<br />\n							<br />\n							This is &quot\;One Heaven of a Play&quot\;.&nbsp\; This is a great comedy based on the book that later became the movie <em>The Trouble With Angels</em> &nbsp\;which starred Rosiland Russell and Haley Mills.<br />\n							<br />\n							<em>Life With Mother Superior</em>&nbsp\; is presented by special arrangement with Dramatists Play Service Inc.\, New York.<br />\n							<br />\n							With help from the &quot\;Friends of Anne Zimmerman&quot\; Fund.<br />\n							<br />\n							&nbsp\;</div>\n					</td>\n				</tr>\n			</tbody>\n		</table>\n		&nbsp\;<br />\n		&nbsp\;</div>\n	<div>\n		&nbsp\;<br />\n		&nbsp\;</div>\n</div>\n
LOCATION:Portage Center for The Arts 301 E. Cook St.
UID:e.374.6727
SEQUENCE:3
DTSTAMP:20260423T011248Z
URL:https://business.portagewi.com/events/details/portage-area-community-theatre-presents-life-with-mother-superior-04-19-2012-6727
END:VEVENT

END:VCALENDAR
