BEGIN:VCALENDAR
VERSION:2.0
PRODID:-//ChamberMaster//Event Calendar 2.0//EN
METHOD:PUBLISH
X-PUBLISHED-TTL:P3D
REFRESH-INTERVAL:P3D
CALSCALE:GREGORIAN
BEGIN:VEVENT
DTSTART:20140430T133000Z
DTEND:20140430T170000Z
X-MICROSOFT-CDO-ALLDAYEVENT:FALSE
SUMMARY:Portage Area TRIAD Senior Day
DESCRIPTION:Schedule\n\n8:00 a.m.                                 Registration & Vendor Visitation\n\n8:30 a.m. -8:45 a.m.               Welcome and Announcements \n\n8:45 a.m. - 9:00 a.m.              Introduction of Vendors/Exhibit Booths\n\n9:00 a.m. - 9:30 a.m.              Recycling 101-Greg Kaminski-Col. County Recycling\n\n9:30 a.m. -9:45 a.m.               Break and Vendor Visitation\n\n9:45 a.m.-10:05 a.m.              Smoke and Carbon Monoxide Detectors-Chief Clayton Simonson       \n\n10:05 a.m.-10:25 a.m.            Chair Exercise We All Can Do-Dr. Kevin Blau-Blau Chiropractic\n\n10:25 a.m.-10:35 a.m.            Break and Vendor Visitation \n\n 10:35 a.m. to Lunch              Panel Presentation on "End of Life Decisions"\n\n                                                Chief Medical Examiner-Angela Hinze-Columbia County\n\n                                                Owner-Jeanne Mundt and Funeral Director Heather Smith \n\n                                            Pflanz\, Mantey\, Mendrala Funeral Home\n\n                                                Michele Strauss-Agrace(Hospice)\n\n                                                Emergency Medical Director-Jon Erdmann and staff -Divine Savior Healthcare\n\n                                                Police Department-Lt. Penny Kiefer-Portage Police Department\n\n\n\nNo Charge for this event!  Door Prizes!!  Free Lunch!\n\n Reservations are required by April 25th\, 2014\n\nTo register call:  Portage Police Department at 742-2174 between 8:00 a.m. and 4:30 p.m. Monday through Friday
X-ALT-DESC;FMTTYPE=text/html:<p><span style="font-size: 12px\;"><span style="font-family: arial\;">Schedule<br />\n8:00 a.m. &nbsp\;&nbsp\;&nbsp\;&nbsp\;&nbsp\;&nbsp\;&nbsp\; &nbsp\;&nbsp\;&nbsp\;&nbsp\;&nbsp\;&nbsp\;&nbsp\;&nbsp\;&nbsp\;&nbsp\;&nbsp\;&nbsp\;&nbsp\;&nbsp\;&nbsp\;&nbsp\;&nbsp\;&nbsp\;&nbsp\;&nbsp\;&nbsp\;&nbsp\;&nbsp\; Registration &amp\; Vendor Visitation<br />\n8:30 a.m. -8:45 a.m.&nbsp\;&nbsp\;&nbsp\;&nbsp\;&nbsp\;&nbsp\;&nbsp\;&nbsp\;&nbsp\;&nbsp\;&nbsp\;&nbsp\;&nbsp\;&nbsp\; Welcome and Announcements&nbsp\;<br />\n8:45 a.m. - 9:00 a.m.&nbsp\;&nbsp\;&nbsp\;&nbsp\;&nbsp\;&nbsp\;&nbsp\;&nbsp\;&nbsp\;&nbsp\;&nbsp\;&nbsp\;&nbsp\; Introduction of Vendors/Exhibit Booths<br />\n9:00 a.m. <span style="color: black\;">- 9:30 a.m. &nbsp\;&nbsp\;&nbsp\;&nbsp\;&nbsp\;&nbsp\;&nbsp\;&nbsp\;&nbsp\;&nbsp\;&nbsp\;&nbsp\; Recycling 101-Greg Kaminski-Col. County Recycling</span><br />\n9:30 a.m. -9:45 a.m.&nbsp\;&nbsp\;&nbsp\;&nbsp\;&nbsp\;&nbsp\;&nbsp\;&nbsp\;&nbsp\;&nbsp\;&nbsp\;&nbsp\;&nbsp\;&nbsp\; Break and Vendor Visitation<br />\n9:45 a.m.-10:05 a.m.&nbsp\;&nbsp\;&nbsp\;&nbsp\;&nbsp\;&nbsp\;&nbsp\;&nbsp\;&nbsp\;&nbsp\;&nbsp\;&nbsp\;&nbsp\; <span style="color: black\;">Smoke and Carbon Monoxide Detectors-Chief Clayton Simonson</span>&nbsp\;&nbsp\;&nbsp\;&nbsp\;&nbsp\;&nbsp\;&nbsp\;<br />\n10:05 a.m.-10:25 a.m.&nbsp\;&nbsp\;&nbsp\;&nbsp\;&nbsp\;&nbsp\;&nbsp\;&nbsp\;&nbsp\;&nbsp\;&nbsp\; <span style="color: black\;">Chair Exercise We All Can Do-Dr. Kevin Blau-Blau Chiropractic</span><br />\n10:25 a.m.-10:35 a.m.&nbsp\;&nbsp\;&nbsp\;&nbsp\;&nbsp\;&nbsp\;&nbsp\;&nbsp\;&nbsp\;&nbsp\;&nbsp\; Break and Vendor Visitation&nbsp\;<br />\n&nbsp\;10:35 a.m. to Lunch&nbsp\;&nbsp\;&nbsp\;&nbsp\;&nbsp\;&nbsp\;&nbsp\;&nbsp\;&nbsp\;&nbsp\;&nbsp\;&nbsp\;&nbsp\; Panel Presentation on &ldquo\;End of Life Decisions&rdquo\;<br />\n&nbsp\;&nbsp\;&nbsp\;&nbsp\;&nbsp\;&nbsp\;&nbsp\;&nbsp\;&nbsp\;&nbsp\;&nbsp\;&nbsp\;&nbsp\;&nbsp\;&nbsp\;&nbsp\;&nbsp\;&nbsp\;&nbsp\;&nbsp\;&nbsp\;&nbsp\;&nbsp\;&nbsp\;&nbsp\;&nbsp\;&nbsp\;&nbsp\;&nbsp\;&nbsp\;&nbsp\;&nbsp\;&nbsp\;&nbsp\;&nbsp\;&nbsp\;&nbsp\;&nbsp\;&nbsp\;&nbsp\;&nbsp\;&nbsp\;&nbsp\;&nbsp\;&nbsp\;&nbsp\;&nbsp\; <span style="color: black\;">Chief Medical Examiner-Angela Hinze-Columbia County</span><br />\n<span style="color: black\;">&nbsp\;&nbsp\;&nbsp\;&nbsp\;&nbsp\;&nbsp\;&nbsp\;&nbsp\;&nbsp\;&nbsp\;&nbsp\;&nbsp\;&nbsp\;&nbsp\;&nbsp\;&nbsp\;&nbsp\;&nbsp\;&nbsp\;&nbsp\;&nbsp\;&nbsp\;&nbsp\;&nbsp\;&nbsp\;&nbsp\;&nbsp\;&nbsp\;&nbsp\;&nbsp\;&nbsp\;&nbsp\;&nbsp\;&nbsp\;&nbsp\;&nbsp\;&nbsp\;&nbsp\;&nbsp\;&nbsp\;&nbsp\;&nbsp\;&nbsp\;&nbsp\;&nbsp\;&nbsp\;&nbsp\; Owner-Jeanne Mundt and Funeral Director Heather Smith&nbsp\;</span></span></span><br />\n&nbsp\;&nbsp\;&nbsp\;&nbsp\;&nbsp\;&nbsp\;&nbsp\;&nbsp\;&nbsp\;&nbsp\;&nbsp\;&nbsp\;&nbsp\;&nbsp\;&nbsp\;&nbsp\;&nbsp\;&nbsp\;&nbsp\;&nbsp\;&nbsp\;&nbsp\;&nbsp\;&nbsp\;&nbsp\;&nbsp\;&nbsp\;&nbsp\;&nbsp\;&nbsp\;&nbsp\;&nbsp\;&nbsp\;&nbsp\;&nbsp\;&nbsp\;&nbsp\;&nbsp\;&nbsp\;&nbsp\;&nbsp\;&nbsp\;&nbsp\;&nbsp\;<span style="font-size: 12px\;"><span style="font-family: arial\;"><span style="color: black\;">Pflanz\, Mantey\, Mendrala Funeral Home</span><br />\n&nbsp\;&nbsp\;&nbsp\;&nbsp\;&nbsp\;&nbsp\;&nbsp\;&nbsp\;&nbsp\;&nbsp\;&nbsp\;&nbsp\;&nbsp\;&nbsp\;&nbsp\;&nbsp\;&nbsp\;&nbsp\;&nbsp\;&nbsp\;&nbsp\;&nbsp\;&nbsp\;&nbsp\;&nbsp\;&nbsp\;&nbsp\;&nbsp\;&nbsp\;&nbsp\;&nbsp\;&nbsp\;&nbsp\;&nbsp\;&nbsp\;&nbsp\;&nbsp\;&nbsp\;&nbsp\;&nbsp\;&nbsp\;&nbsp\;&nbsp\;&nbsp\;&nbsp\;&nbsp\;&nbsp\; Michele Strauss-Agrace(Hospice)<br />\n&nbsp\;&nbsp\;&nbsp\;&nbsp\;&nbsp\;&nbsp\;&nbsp\;&nbsp\;&nbsp\;&nbsp\;&nbsp\;&nbsp\;&nbsp\;&nbsp\;&nbsp\;&nbsp\;&nbsp\;&nbsp\;&nbsp\;&nbsp\;&nbsp\;&nbsp\;&nbsp\;&nbsp\;&nbsp\;&nbsp\;&nbsp\;&nbsp\;&nbsp\;&nbsp\;&nbsp\;&nbsp\;&nbsp\;&nbsp\;&nbsp\;&nbsp\;&nbsp\;&nbsp\;&nbsp\;&nbsp\;&nbsp\;&nbsp\;&nbsp\;&nbsp\;&nbsp\;&nbsp\;&nbsp\; Emergency Medical Director-Jon Erdmann and staff -Divine Savior Healthcare<br />\n&nbsp\;&nbsp\;&nbsp\;&nbsp\;&nbsp\;&nbsp\;&nbsp\;&nbsp\;&nbsp\;&nbsp\;&nbsp\;&nbsp\;&nbsp\;&nbsp\;&nbsp\;&nbsp\;&nbsp\;&nbsp\;&nbsp\;&nbsp\;&nbsp\;&nbsp\;&nbsp\;&nbsp\;&nbsp\;&nbsp\;&nbsp\;&nbsp\;&nbsp\;&nbsp\;&nbsp\;&nbsp\;&nbsp\;&nbsp\;&nbsp\;&nbsp\;&nbsp\;&nbsp\;&nbsp\;&nbsp\;&nbsp\;&nbsp\;&nbsp\;&nbsp\;&nbsp\;&nbsp\;&nbsp\; <span style="color: black\;">Police Department-Lt. Penny Kiefer-Portage Police Department</span><br />\n<br />\nNo Charge for this event!&nbsp\; Door Prizes!!&nbsp\; Free Lunch!<br />\n&nbsp\;Reservations are required by April 25<sup>th</sup>\, 2014<br />\nTo register call:&nbsp\; Portage Police Department at 742-2174 between 8:00 a.m. and 4:30 p.m. Monday through Friday<br />\n<br />\n&nbsp\;</span></span><br />\n&nbsp\;&nbsp\;&nbsp\;&nbsp\;&nbsp\;&nbsp\;&nbsp\;&nbsp\;&nbsp\;&nbsp\;&nbsp\;&nbsp\;&nbsp\;&nbsp\;&nbsp\;&nbsp\;&nbsp\;&nbsp\;&nbsp\;&nbsp\;&nbsp\;&nbsp\;&nbsp\;&nbsp\;&nbsp\;&nbsp\;&nbsp\;&nbsp\;&nbsp\;&nbsp\;&nbsp\;&nbsp\;&nbsp\;&nbsp\;&nbsp\;&nbsp\;&nbsp\;&nbsp\;&nbsp\;&nbsp\;&nbsp\;&nbsp\;&nbsp\;&nbsp\;&nbsp\;&nbsp\;&nbsp\;<br />\n&nbsp\;<br />\n&nbsp\;</p>\n
LOCATION:Portage Municipal Building\, 115 W. Pleasant St.
UID:e.374.9718
SEQUENCE:3
DTSTAMP:20260422T172222Z
URL:https://business.portagewi.com/events/details/portage-area-triad-senior-day-04-30-2014-9718
END:VEVENT

END:VCALENDAR
