BEGIN:VCALENDAR
VERSION:2.0
PRODID:-//ChamberMaster//Event Calendar 2.0//EN
METHOD:PUBLISH
X-PUBLISHED-TTL:P3D
REFRESH-INTERVAL:P3D
CALSCALE:GREGORIAN
BEGIN:VEVENT
DTSTART:20130803T120000Z
DTEND:20130803T200000Z
X-MICROSOFT-CDO-ALLDAYEVENT:FALSE
SUMMARY:Portage City Flea Market
DESCRIPTION:2013 Portage City Flea Market featuring Crafts\, Produce\, Antiques\, Collectibles\, Rummage Sale Items\n\n	Indoor/Outdoor so we'll be there rain or shine!
X-ALT-DESC;FMTTYPE=text/html:<p>\n	2013 Portage City Flea Market featuring Crafts\, Produce\, Antiques\, Collectibles\, Rummage Sale Items<br />\n	Indoor/Outdoor so we&#39\;ll be there rain or shine!<br />\n	<br />\n	&nbsp\;</p>\n
LOCATION:Veterans Memorial Fields home of the Columbia County Fair. Located next to and inside the Bidwell Building in the center of the area. 300 Superior Street Portage\, WI
UID:e.374.8139
SEQUENCE:3
DTSTAMP:20260423T054839Z
URL:https://business.portagewi.com/events/details/portage-city-flea-market-08-03-2013-8139
END:VEVENT

END:VCALENDAR
