BEGIN:VCALENDAR
VERSION:2.0
PRODID:-//ChamberMaster//Event Calendar 2.0//EN
METHOD:PUBLISH
X-PUBLISHED-TTL:P3D
REFRESH-INTERVAL:P3D
CALSCALE:GREGORIAN
BEGIN:VEVENT
DTSTART:20110604T120000Z
DTEND:20110604T200000Z
X-MICROSOFT-CDO-ALLDAYEVENT:FALSE
SUMMARY:Portage City Flea Market & City-Wide Rummage Sales
DESCRIPTION:2011 Portage City Flea Market featuring Crafts\, Produce\, Antiques\, Collectibles\, Rummage Sale Items\n\n	Indoor/Outdoor so we'll be there rain or shine!\n\n	City-Wide Rummage Sales will take place each month coinciding with the flea market weekend.
X-ALT-DESC;FMTTYPE=text/html:<p>\n	2011 Portage City Flea Market featuring Crafts\, Produce\, Antiques\, Collectibles\, Rummage Sale Items<br />\n	Indoor/Outdoor so we&#39\;ll be there rain or shine!<br />\n	City-Wide Rummage Sales will take place each month coinciding with the flea market weekend.</p>\n
LOCATION:Veterans Memorial Fields home of the Columbia County Fair. Located next to and inside the Bidwell Building in the center of the area. 300 Superior Street Portage\, WI
UID:e.374.3776
SEQUENCE:3
DTSTAMP:20260422T215856Z
URL:https://business.portagewi.com/events/details/portage-city-flea-market-city-wide-rummage-sales-06-04-2011-3776
END:VEVENT

END:VCALENDAR
