BEGIN:VCALENDAR
VERSION:2.0
PRODID:-//ChamberMaster//Event Calendar 2.0//EN
METHOD:PUBLISH
X-PUBLISHED-TTL:P3D
REFRESH-INTERVAL:P3D
CALSCALE:GREGORIAN
BEGIN:VEVENT
DTSTART;VALUE=DATE:20131012
DTEND;VALUE=DATE:20131013
TRANSP:TRANSPARENT
X-MICROSOFT-CDO-ALLDAYEVENT:TRUE
SUMMARY:Portage Days at Historic Indian Agency House
DESCRIPTION:On the second Saturday of the month from June to October of our 2013 season\, residents of Portage\, Wisconsin are encouraged to take a FREE guided tour of the Historic Indian Agency House. In grateful recognition of 2013 operations funding granted by the City of Portage\, we  invite our in-town neighbors to learn more about the historic site that your tax dollars help support. Proof of Portage residency required\; call for a list of accepted documents.\n\n \n\nAPPLICABLE DATES:\n\nSaturday\, June 8\n\nSaturday\, July 13\n\nSaturday\, August 10\n\nSaturday\, September 14\n\nSaturday\, October 12\n\n \n\nPlease Note: Use of the Nature Trail is an additional fee\, except on Nature Trail Tuesdays \n\n(2nd Tues. of the month\, June to Oct 2013) when Wisconsinites walk for free!
X-ALT-DESC;FMTTYPE=text/html:<span style="font-size: 12px"><span style="font-family: arial">On the second Saturday of the month from June to October of our 2013 season\, residents of Portage\, Wisconsin are encouraged to take a <strong>FREE </strong>guided tour of the Historic Indian Agency House. In grateful recognition of 2013 operations funding granted by the City of Portage\, we&nbsp\; invite our in-town neighbors to learn more about the historic site that your tax dollars help support. Proof of Portage residency required\; call for a list of accepted documents.<br />\n&nbsp\;<br />\n<strong>APPLICABLE DATES:</strong><br />\n<strong>Saturday\, June 8</strong><br />\n<strong>Saturday\, July 13</strong><br />\n<strong>Saturday\, August 10</strong><br />\n<strong>Saturday\, September 14</strong><br />\n<strong>Saturday\, October 12</strong><br />\n&nbsp\;<br />\nPlease Note: Use of the <strong>Nature Trail </strong>is an additional fee\, except on <strong>Nature Trail Tuesdays </strong><br />\n(2nd Tues. of the month\, June to Oct 2013)&mdash\;when Wisconsinites walk for free!</span></span><br />\n
LOCATION:
UID:e.374.8007
SEQUENCE:3
DTSTAMP:20260423T024621Z
URL:https://business.portagewi.com/events/details/portage-days-at-historic-indian-agency-house-10-12-2013-8007
END:VEVENT

END:VCALENDAR
