BEGIN:VCALENDAR
VERSION:2.0
PRODID:-//ChamberMaster//Event Calendar 2.0//EN
METHOD:PUBLISH
X-PUBLISHED-TTL:P3D
REFRESH-INTERVAL:P3D
CALSCALE:GREGORIAN
BEGIN:VEVENT
DTSTART:20140712T170000Z
DTEND:20140713T030000Z
X-MICROSOFT-CDO-ALLDAYEVENT:FALSE
SUMMARY:Portage Elks & Columbia County Tavern League Harley-Davidson Fundraiser for Charity
DESCRIPTION:Elks-Columbia County Tavern League Raffle:\n\nGrand Prize: 2013 Harley-Davidson Black Super Glide\n\nDrawing held at 4:30pm on Saturday\, July 12 to benefit Portage Elks and Columbia County Tavern League Charities\n\n2pm - Pig roast at Portage Elks Lodge #675\, 201 W. Conant St.\, \n\nDoors open at noon\n\n\n\nThe bike is on display at the Cottonwood Bar & Grill\, 312 DeWitt St.\n\nWinner need not be present to win. Winner is responsible for picking up bike and taxes and fees. Tickets are available at any Tavern League Member's establishment. Only 5\,000 tickets sold.
X-ALT-DESC;FMTTYPE=text/html:Elks-Columbia County Tavern League Raffle:<br />\nGrand Prize: 2013 Harley-Davidson Black Super Glide<br />\nDrawing held at 4:30pm on Saturday\, July 12 to benefit Portage Elks and Columbia County Tavern League Charities<br />\n2pm - Pig roast at Portage Elks Lodge #675\, 201 W. Conant St.\,&nbsp\;<br />\nDoors open at noon<br />\n<br />\nThe bike is on display at the Cottonwood Bar &amp\; Grill\, 312 DeWitt St.<br />\nWinner need not be present to win. Winner is responsible for picking up bike and taxes and fees. Tickets are available at any Tavern League Member&#39\;s establishment. Only 5\,000 tickets sold.
LOCATION:Portage Elks Lodge\, 201 W. Conant St.
UID:e.374.9686
SEQUENCE:3
DTSTAMP:20260422T120935Z
URL:https://business.portagewi.com/events/details/portage-elks-columbia-county-tavern-league-harley-davidson-fundraiser-for-charity-07-12-2014-9686
END:VEVENT

END:VCALENDAR
