BEGIN:VCALENDAR
VERSION:2.0
PRODID:-//ChamberMaster//Event Calendar 2.0//EN
METHOD:PUBLISH
X-PUBLISHED-TTL:P3D
REFRESH-INTERVAL:P3D
CALSCALE:GREGORIAN
BEGIN:VEVENT
DTSTART;VALUE=DATE:20131005
DTEND;VALUE=DATE:20131006
TRANSP:TRANSPARENT
X-MICROSOFT-CDO-ALLDAYEVENT:TRUE
SUMMARY:Portage Fall Craft Sale & Holiday Market 2013
DESCRIPTION:Please join us for a day of fall fun and shopping featuring arts\, crafts and other fun gift ideas!\n\nWe welcome artisans\, crafters\, direct sales vendors\, and other vendors selling new items.\n\nAdvance registration only. Please contact us to obtain a registration form.\n\n\n\n\n\nPortage Parks and Recreation\, 806 Silver Lake Dr. \n\nportagecityevents@gmail.com
X-ALT-DESC;FMTTYPE=text/html:Please join us for a day of fall fun and shopping featuring arts\, crafts and other fun gift ideas!<br />\nWe welcome artisans\, crafters\, direct sales vendors\, and other vendors selling new items.<br />\nAdvance registration only. Please contact us to obtain a registration form.<br />\n<br />\n<br />\nPortage Parks and Recreation\, 806 Silver Lake Dr.&nbsp\;<br />\n<a href="mailto:Drive--608-742-2178--portagecityevents@gmail.com">portagecityevents@gmail.com</a><br />\n<br />\n<br />\n
LOCATION:Columbia County Fairgrounds 300 Superior St.
UID:e.374.8141
SEQUENCE:3
DTSTAMP:20260423T023922Z
URL:https://business.portagewi.com/events/details/portage-fall-craft-sale-holiday-market-2013-10-05-2013-8141
END:VEVENT

END:VCALENDAR
