BEGIN:VCALENDAR
VERSION:2.0
PRODID:-//ChamberMaster//Event Calendar 2.0//EN
METHOD:PUBLISH
X-PUBLISHED-TTL:P3D
REFRESH-INTERVAL:P3D
CALSCALE:GREGORIAN
BEGIN:VEVENT
DTSTART:20120517T170000Z
DTEND:20120517T230000Z
X-MICROSOFT-CDO-ALLDAYEVENT:FALSE
SUMMARY:Portage Farmers Market
DESCRIPTION:Farmers Market featuring home grown produce items\, homemade items\, and hand-crafted items.\n\n	\n\n	Farmer's Market Application\n\n	\n\n	Farmer's Market Gazette
X-ALT-DESC;FMTTYPE=text/html:<div>\n	Farmers Market featuring home grown produce items\, homemade items\, and hand-crafted items.<br />\n	<br />\n	<a href="http://cloud.chambermaster.com/userfiles/UserFiles/chambers/374/File/2012FarmMarketAppl.pdf">Farmer&#39\;s Market Application</a><br />\n	<br />\n	<a href="http://cloud.chambermaster.com/userfiles/UserFiles/chambers/374/File/2012PORTAGEFARMERSMARKETGAZETTESPRING2.doc">Farmer&#39\;s Market Gazette</a></div>\n
LOCATION:Commerce Plaza (corner of Cook and Wisconsin St. across from Theatre.
UID:e.374.6137
SEQUENCE:3
DTSTAMP:20260423T023843Z
URL:https://business.portagewi.com/events/details/portage-farmers-market-05-17-2012-6137
END:VEVENT

END:VCALENDAR
