BEGIN:VCALENDAR
VERSION:2.0
PRODID:-//ChamberMaster//Event Calendar 2.0//EN
METHOD:PUBLISH
X-PUBLISHED-TTL:P3D
REFRESH-INTERVAL:P3D
CALSCALE:GREGORIAN
BEGIN:VEVENT
DTSTART:20110609T170000Z
DTEND:20110609T230000Z
X-MICROSOFT-CDO-ALLDAYEVENT:FALSE
SUMMARY:Portage Farmers Market
DESCRIPTION:Farmers Market featuring home grown produce items\, homemade items\, and hand-crafted items.\n\n	Vendors\,  Click Here for a Farmers Market application.
X-ALT-DESC;FMTTYPE=text/html:<div>\n	Farmers Market featuring home grown produce items\, homemade items\, and hand-crafted items.</div>\n<div>\n	Vendors\,&nbsp\;<span _fck_bookmark="1" style="display: none">&nbsp\;</span><a href="http://cloud.chambermaster.com/userfiles/UserFiles/chambers/374/File/Farmers%20Market%202011.pdf">Click Here for a Farmers Market application</a><a href="http://cloud.chambermaster.com/userfiles/UserFiles/chambers/374/File/Farmers%20Market%202011.pdf">.</a></div>\n
LOCATION:Commerce Plaza Corner of Cook and Wisconsin St. across from Portage Theatres.
UID:e.374.3721
SEQUENCE:3
DTSTAMP:20260422T215755Z
URL:https://business.portagewi.com/events/details/portage-farmers-market-06-09-2011-3721
END:VEVENT

END:VCALENDAR
