BEGIN:VCALENDAR
VERSION:2.0
PRODID:-//ChamberMaster//Event Calendar 2.0//EN
METHOD:PUBLISH
X-PUBLISHED-TTL:P3D
REFRESH-INTERVAL:P3D
CALSCALE:GREGORIAN
BEGIN:VEVENT
DTSTART:20120921T153000Z
DTEND:20120921T233000Z
X-MICROSOFT-CDO-ALLDAYEVENT:FALSE
SUMMARY:Portage FBLA - Ford Drive One 4 UR School Fundraiser
DESCRIPTION:FBLA Fundraiser at the Wal-Mart Parking Lot\n\n\n\nAnyone 18 years or older can test drive a vehicle.\n\n(limit one per address) \n\nFor each test drive Portage FBLA get $20. \n\nIf you choose to take a second test drive in a Ford Escape\, Portage FBLA gets $30.\n\n\n\nThis is not to promote car sales...  Simply a fundraiser for Portage FBLA.\n\n\n\nThanks to Hill Automotive for supplying the cars for the test drives.
X-ALT-DESC;FMTTYPE=text/html:FBLA Fundraiser at the Wal-Mart Parking Lot<br />\n<br />\nAnyone 18 years or older can test drive a vehicle.<br />\n(limit one per address)&nbsp\;<br />\nFor each test drive Portage FBLA get $20.&nbsp\;<br />\nIf you choose to take a second test drive in a Ford Escape\, Portage FBLA gets $30.<br />\n<br />\nThis is not to promote car sales...&nbsp\; Simply a fundraiser for Portage FBLA.<br />\n<br />\nThanks to Hill Automotive for supplying the cars for the test drives.<br />\n<br />\n<br />\n
LOCATION:
UID:e.374.6982
SEQUENCE:3
DTSTAMP:20260423T090619Z
URL:https://business.portagewi.com/events/details/portage-fbla-ford-drive-one-4-ur-school-fundraiser-09-21-2012-6982
END:VEVENT

END:VCALENDAR
