BEGIN:VCALENDAR
VERSION:2.0
PRODID:-//ChamberMaster//Event Calendar 2.0//EN
METHOD:PUBLISH
X-PUBLISHED-TTL:P3D
REFRESH-INTERVAL:P3D
CALSCALE:GREGORIAN
BEGIN:VEVENT
DTSTART:20201018T160000Z
DTEND:20201018T190000Z
X-MICROSOFT-CDO-ALLDAYEVENT:FALSE
SUMMARY:Portage FFA Alumni - Chicken Barbecue Fundraiser
DESCRIPTION:The Portage FFA Alumni will be hosting their annual Chicken Barbecue at Portage High School on Sunday\, October 18th. The Chicken barbecue will be held at Portage High School\, near the Autoshop\, on Sunday\, October 18th from 11:00 a.m. until 2:00 p.m. Due to COVID-19 restrictions\, this year's barbecue will be a drive-up event. Community members may drive up and purchase their meals. Meals will cost $12 for a half-chicken plus sides and $10 for a quarter-chicken plus sides. Meals will then be delivered directly to your car. All proceeds from the barbecue are used by Alumni members to provide scholarships to area FFA members in pursuit of 2 and 4 year degrees.
X-ALT-DESC;FMTTYPE=text/html:The Portage FFA Alumni will be hosting their annual Chicken Barbecue at Portage High School on Sunday\, October 18th. The Chicken barbecue will be held at Portage High School\, near the Autoshop\, on Sunday\, October 18th from 11:00 a.m. until 2:00 p.m. Due to COVID-19 restrictions\, this year&rsquo\;s barbecue will be a drive-up event. Community members may drive up and purchase their meals. Meals will cost $12 for a half-chicken plus sides and $10 for a quarter-chicken plus sides. Meals will then be delivered directly to your car. All proceeds from the barbecue are used by Alumni members to provide scholarships to area FFA members in pursuit of 2 and 4 year degrees.
LOCATION:Portage High School - 301 E Collins Street\, Portage\, WI 5390
UID:e.374.27852
SEQUENCE:3
DTSTAMP:20260422T070254Z
URL:https://business.portagewi.com/events/details/portage-ffa-alumni-chicken-barbecue-fundraiser-27852
END:VEVENT

END:VCALENDAR
