BEGIN:VCALENDAR
VERSION:2.0
PRODID:-//ChamberMaster//Event Calendar 2.0//EN
METHOD:PUBLISH
X-PUBLISHED-TTL:P3D
REFRESH-INTERVAL:P3D
CALSCALE:GREGORIAN
BEGIN:VEVENT
DTSTART:20130507T223000Z
DTEND:20130508T010000Z
X-MICROSOFT-CDO-ALLDAYEVENT:FALSE
SUMMARY:Portage Historic Preservation Commission OPEN HOUSE
DESCRIPTION:5:30pm Meet and greet\n\n6pm Seminar on Homeowner's Tax Credit Program sponsored by Wisconsin Historical Society\n\n6:50pm Presentation on restoring and remodeling\n\n7:05pm  Municipal Register and Historic Preservation Award Ceremony\n\n7:15  Vendors Q & A\n\n\n\nSnacks and refreshments will be provided. This event is FREE and Open to the Public.
X-ALT-DESC;FMTTYPE=text/html:5:30pm Meet and greet<br />\n6pm Seminar on Homeowner&#39\;s Tax Credit Program sponsored by Wisconsin Historical Society<br />\n6:50pm Presentation on restoring and remodeling<br />\n7:05pm&nbsp\; Municipal Register and Historic Preservation Award Ceremony<br />\n7:15&nbsp\; Vendors Q&nbsp\;&amp\; A<br />\n<br />\nSnacks and refreshments will be provided. This event is FREE and Open to the Public.<br />\n<br />\n
LOCATION:Museum at the Portage\, 804 MacFarlane Rd.
UID:e.374.8161
SEQUENCE:3
DTSTAMP:20260423T101756Z
URL:https://business.portagewi.com/events/details/portage-historic-preservation-commission-open-house-05-07-2013-8161
END:VEVENT

END:VCALENDAR
